BEGIN:VCALENDAR
VERSION:2.0
PRODID:Zwift Calendar - by David Collom
METHOD:REQUEST
BEGIN:VEVENT
UID:5533492
SUMMARY:[London] Zwift TT Club Racing - ZG25 Climb Champs
LOCATION:London
DESCRIPTION:The Time Trial. Cycling’s true leveler - just you and your
  legs versus everyone else in the field.\n\nCome join Zwift TT Club on
  Zwift for more Time Trial event information!
  https://www.zwift.com/clubs/b3d1a903-df49-44eb-9c6f-4ba9f0622efe/home\n\n
 Join us as we embark on a five-week series of events - each week you will
  have multiple chances to set your best time on the same route!\n\nOver
  the course of the five weeks\, we’ll be increasing the distance of the
  events.\n\nCheck out Zwiftpower.com after your event to see how well you
  stack up against the competition!\n\nDon’t forget to check you’re
  using the fastest bike frame and wheels available to you!\n\nWHAT IS
  ZWIFT POWER? \nFor further information on connecting to Zwift Power check
  out this support page:
  https://support.zwift.com/en_us/connecting-to-zwiftpower-SyldRc_4H
  \n\nPlease note\; for your results to show up in Zwift Power you must be
  using a Heart Rate Monitor (HRM) and be riding on a smart trainer\, smart
  bike\, or using a power meter. 
DTSTART:20260420T012000Z
DTEND:20260420T012000Z
URL:https://cdn.zwift.com/static/events_headers/cycling/special/zhq-zwift-t
 t-club_ride_02-2023_event-header.png
CLASS:PUBLIC
LAST-MODIFIED:20260420T004204Z
END:VEVENT
BEGIN:VEVENT
UID:5533384
SUMMARY:[Makuri Islands] Zwift TT Club Racing - Neon After Party
LOCATION:Makuri Islands
DESCRIPTION:The Time Trial. Cycling’s true leveler - just you and your
  legs versus everyone else in the field.\n\nCome join Zwift TT Club on
  Zwift for more Time Trial event information!
  https://www.zwift.com/clubs/b3d1a903-df49-44eb-9c6f-4ba9f0622efe/home\n\n
 Join us as we embark on a five-week series of events - each week you will
  have multiple chances to set your best time on the same route!\n\nOver
  the course of the five weeks\, we’ll be increasing the distance of the
  events.\n\nCheck out Zwiftpower.com after your event to see how well you
  stack up against the competition!\n\nDon’t forget to check you’re
  using the fastest bike frame and wheels available to you!\n\nWHAT IS
  ZWIFT POWER? \nFor further information on connecting to Zwift Power check
  out this support page:
  https://support.zwift.com/en_us/connecting-to-zwiftpower-SyldRc_4H
  \n\nPlease note\; for your results to show up in Zwift Power you must be
  using a Heart Rate Monitor (HRM) and be riding on a smart trainer\, smart
  bike\, or using a power meter. 
DTSTART:20260420T072000Z
DTEND:20260420T072000Z
URL:https://cdn.zwift.com/static/events_headers/cycling/special/zhq-zwift-t
 t-club_ride_02-2023_event-header.png
CLASS:PUBLIC
LAST-MODIFIED:20260420T004204Z
END:VEVENT
BEGIN:VEVENT
UID:5533640
SUMMARY:[Makuri Islands] Zwift TT Club Racing - Neon After Party
LOCATION:Makuri Islands
DESCRIPTION:The Time Trial. Cycling’s true leveler - just you and your
  legs versus everyone else in the field.\n\nCome join Zwift TT Club on
  Zwift for more Time Trial event information!
  https://www.zwift.com/clubs/b3d1a903-df49-44eb-9c6f-4ba9f0622efe/home\n\n
 Join us as we embark on a five-week series of events - each week you will
  have multiple chances to set your best time on the same route!\n\nOver
  the course of the five weeks\, we’ll be increasing the distance of the
  events.\n\nCheck out Zwiftpower.com after your event to see how well you
  stack up against the competition!\n\nDon’t forget to check you’re
  using the fastest bike frame and wheels available to you!\n\nWHAT IS
  ZWIFT POWER? \nFor further information on connecting to Zwift Power check
  out this support page:
  https://support.zwift.com/en_us/connecting-to-zwiftpower-SyldRc_4H
  \n\nPlease note\; for your results to show up in Zwift Power you must be
  using a Heart Rate Monitor (HRM) and be riding on a smart trainer\, smart
  bike\, or using a power meter. 
DTSTART:20260420T092000Z
DTEND:20260420T092000Z
URL:https://cdn.zwift.com/static/events_headers/cycling/special/zhq-zwift-t
 t-club_ride_02-2023_event-header.png
CLASS:PUBLIC
LAST-MODIFIED:20260420T004204Z
END:VEVENT
BEGIN:VEVENT
UID:5533429
SUMMARY:[Makuri Islands] Zwift TT Club Racing - Neon After Party
LOCATION:Makuri Islands
DESCRIPTION:The Time Trial. Cycling’s true leveler - just you and your
  legs versus everyone else in the field.\n\nCome join Zwift TT Club on
  Zwift for more Time Trial event information!
  https://www.zwift.com/clubs/b3d1a903-df49-44eb-9c6f-4ba9f0622efe/home\n\n
 Join us as we embark on a five-week series of events - each week you will
  have multiple chances to set your best time on the same route!\n\nOver
  the course of the five weeks\, we’ll be increasing the distance of the
  events.\n\nCheck out Zwiftpower.com after your event to see how well you
  stack up against the competition!\n\nDon’t forget to check you’re
  using the fastest bike frame and wheels available to you!\n\nWHAT IS
  ZWIFT POWER? \nFor further information on connecting to Zwift Power check
  out this support page:
  https://support.zwift.com/en_us/connecting-to-zwiftpower-SyldRc_4H
  \n\nPlease note\; for your results to show up in Zwift Power you must be
  using a Heart Rate Monitor (HRM) and be riding on a smart trainer\, smart
  bike\, or using a power meter. 
DTSTART:20260420T112000Z
DTEND:20260420T112000Z
URL:https://cdn.zwift.com/static/events_headers/cycling/special/zhq-zwift-t
 t-club_ride_02-2023_event-header.png
CLASS:PUBLIC
LAST-MODIFIED:20260420T004204Z
END:VEVENT
BEGIN:VEVENT
UID:5533504
SUMMARY:[Makuri Islands] Zwift TT Club Racing - Neon After Party
LOCATION:Makuri Islands
DESCRIPTION:The Time Trial. Cycling’s true leveler - just you and your
  legs versus everyone else in the field.\n\nCome join Zwift TT Club on
  Zwift for more Time Trial event information!
  https://www.zwift.com/clubs/b3d1a903-df49-44eb-9c6f-4ba9f0622efe/home\n\n
 Join us as we embark on a five-week series of events - each week you will
  have multiple chances to set your best time on the same route!\n\nOver
  the course of the five weeks\, we’ll be increasing the distance of the
  events.\n\nCheck out Zwiftpower.com after your event to see how well you
  stack up against the competition!\n\nDon’t forget to check you’re
  using the fastest bike frame and wheels available to you!\n\nWHAT IS
  ZWIFT POWER? \nFor further information on connecting to Zwift Power check
  out this support page:
  https://support.zwift.com/en_us/connecting-to-zwiftpower-SyldRc_4H
  \n\nPlease note\; for your results to show up in Zwift Power you must be
  using a Heart Rate Monitor (HRM) and be riding on a smart trainer\, smart
  bike\, or using a power meter. 
DTSTART:20260420T132000Z
DTEND:20260420T132000Z
URL:https://cdn.zwift.com/static/events_headers/cycling/special/zhq-zwift-t
 t-club_ride_02-2023_event-header.png
CLASS:PUBLIC
LAST-MODIFIED:20260420T004204Z
END:VEVENT
BEGIN:VEVENT
UID:5533638
SUMMARY:[Makuri Islands] Zwift TT Club Racing - Neon After Party
LOCATION:Makuri Islands
DESCRIPTION:The Time Trial. Cycling’s true leveler - just you and your
  legs versus everyone else in the field.\n\nCome join Zwift TT Club on
  Zwift for more Time Trial event information!
  https://www.zwift.com/clubs/b3d1a903-df49-44eb-9c6f-4ba9f0622efe/home\n\n
 Join us as we embark on a five-week series of events - each week you will
  have multiple chances to set your best time on the same route!\n\nOver
  the course of the five weeks\, we’ll be increasing the distance of the
  events.\n\nCheck out Zwiftpower.com after your event to see how well you
  stack up against the competition!\n\nDon’t forget to check you’re
  using the fastest bike frame and wheels available to you!\n\nWHAT IS
  ZWIFT POWER? \nFor further information on connecting to Zwift Power check
  out this support page:
  https://support.zwift.com/en_us/connecting-to-zwiftpower-SyldRc_4H
  \n\nPlease note\; for your results to show up in Zwift Power you must be
  using a Heart Rate Monitor (HRM) and be riding on a smart trainer\, smart
  bike\, or using a power meter. 
DTSTART:20260420T162000Z
DTEND:20260420T162000Z
URL:https://cdn.zwift.com/static/events_headers/cycling/special/zhq-zwift-t
 t-club_ride_02-2023_event-header.png
CLASS:PUBLIC
LAST-MODIFIED:20260420T004204Z
END:VEVENT
BEGIN:VEVENT
UID:5533602
SUMMARY:[Makuri Islands] Zwift TT Club Racing - Neon After Party
LOCATION:Makuri Islands
DESCRIPTION:The Time Trial. Cycling’s true leveler - just you and your
  legs versus everyone else in the field.\n\nCome join Zwift TT Club on
  Zwift for more Time Trial event information!
  https://www.zwift.com/clubs/b3d1a903-df49-44eb-9c6f-4ba9f0622efe/home\n\n
 Join us as we embark on a five-week series of events - each week you will
  have multiple chances to set your best time on the same route!\n\nOver
  the course of the five weeks\, we’ll be increasing the distance of the
  events.\n\nCheck out Zwiftpower.com after your event to see how well you
  stack up against the competition!\n\nDon’t forget to check you’re
  using the fastest bike frame and wheels available to you!\n\nWHAT IS
  ZWIFT POWER? \nFor further information on connecting to Zwift Power check
  out this support page:
  https://support.zwift.com/en_us/connecting-to-zwiftpower-SyldRc_4H
  \n\nPlease note\; for your results to show up in Zwift Power you must be
  using a Heart Rate Monitor (HRM) and be riding on a smart trainer\, smart
  bike\, or using a power meter. 
DTSTART:20260420T172000Z
DTEND:20260420T172000Z
URL:https://cdn.zwift.com/static/events_headers/cycling/special/zhq-zwift-t
 t-club_ride_02-2023_event-header.png
CLASS:PUBLIC
LAST-MODIFIED:20260420T004204Z
END:VEVENT
BEGIN:VEVENT
UID:5533562
SUMMARY:[Makuri Islands] Zwift TT Club Racing - Neon After Party
LOCATION:Makuri Islands
DESCRIPTION:The Time Trial. Cycling’s true leveler - just you and your
  legs versus everyone else in the field.\n\nCome join Zwift TT Club on
  Zwift for more Time Trial event information!
  https://www.zwift.com/clubs/b3d1a903-df49-44eb-9c6f-4ba9f0622efe/home\n\n
 Join us as we embark on a five-week series of events - each week you will
  have multiple chances to set your best time on the same route!\n\nOver
  the course of the five weeks\, we’ll be increasing the distance of the
  events.\n\nCheck out Zwiftpower.com after your event to see how well you
  stack up against the competition!\n\nDon’t forget to check you’re
  using the fastest bike frame and wheels available to you!\n\nWHAT IS
  ZWIFT POWER? \nFor further information on connecting to Zwift Power check
  out this support page:
  https://support.zwift.com/en_us/connecting-to-zwiftpower-SyldRc_4H
  \n\nPlease note\; for your results to show up in Zwift Power you must be
  using a Heart Rate Monitor (HRM) and be riding on a smart trainer\, smart
  bike\, or using a power meter. 
DTSTART:20260420T182000Z
DTEND:20260420T182000Z
URL:https://cdn.zwift.com/static/events_headers/cycling/special/zhq-zwift-t
 t-club_ride_02-2023_event-header.png
CLASS:PUBLIC
LAST-MODIFIED:20260420T004204Z
END:VEVENT
BEGIN:VEVENT
UID:5533639
SUMMARY:[Makuri Islands] Zwift TT Club Racing - Neon After Party
LOCATION:Makuri Islands
DESCRIPTION:The Time Trial. Cycling’s true leveler - just you and your
  legs versus everyone else in the field.\n\nCome join Zwift TT Club on
  Zwift for more Time Trial event information!
  https://www.zwift.com/clubs/b3d1a903-df49-44eb-9c6f-4ba9f0622efe/home\n\n
 Join us as we embark on a five-week series of events - each week you will
  have multiple chances to set your best time on the same route!\n\nOver
  the course of the five weeks\, we’ll be increasing the distance of the
  events.\n\nCheck out Zwiftpower.com after your event to see how well you
  stack up against the competition!\n\nDon’t forget to check you’re
  using the fastest bike frame and wheels available to you!\n\nWHAT IS
  ZWIFT POWER? \nFor further information on connecting to Zwift Power check
  out this support page:
  https://support.zwift.com/en_us/connecting-to-zwiftpower-SyldRc_4H
  \n\nPlease note\; for your results to show up in Zwift Power you must be
  using a Heart Rate Monitor (HRM) and be riding on a smart trainer\, smart
  bike\, or using a power meter. 
DTSTART:20260420T232000Z
DTEND:20260420T232000Z
URL:https://cdn.zwift.com/static/events_headers/cycling/special/zhq-zwift-t
 t-club_ride_02-2023_event-header.png
CLASS:PUBLIC
LAST-MODIFIED:20260420T004204Z
END:VEVENT
BEGIN:VEVENT
UID:5533438
SUMMARY:[Makuri Islands] Zwift TT Club Racing - Neon After Party
LOCATION:Makuri Islands
DESCRIPTION:The Time Trial. Cycling’s true leveler - just you and your
  legs versus everyone else in the field.\n\nCome join Zwift TT Club on
  Zwift for more Time Trial event information!
  https://www.zwift.com/clubs/b3d1a903-df49-44eb-9c6f-4ba9f0622efe/home\n\n
 Join us as we embark on a five-week series of events - each week you will
  have multiple chances to set your best time on the same route!\n\nOver
  the course of the five weeks\, we’ll be increasing the distance of the
  events.\n\nCheck out Zwiftpower.com after your event to see how well you
  stack up against the competition!\n\nDon’t forget to check you’re
  using the fastest bike frame and wheels available to you!\n\nWHAT IS
  ZWIFT POWER? \nFor further information on connecting to Zwift Power check
  out this support page:
  https://support.zwift.com/en_us/connecting-to-zwiftpower-SyldRc_4H
  \n\nPlease note\; for your results to show up in Zwift Power you must be
  using a Heart Rate Monitor (HRM) and be riding on a smart trainer\, smart
  bike\, or using a power meter. 
DTSTART:20260421T012000Z
DTEND:20260421T012000Z
URL:https://cdn.zwift.com/static/events_headers/cycling/special/zhq-zwift-t
 t-club_ride_02-2023_event-header.png
CLASS:PUBLIC
LAST-MODIFIED:20260420T004204Z
END:VEVENT
BEGIN:VEVENT
UID:5533601
SUMMARY:[Makuri Islands] Zwift TT Club Racing - Neon After Party
LOCATION:Makuri Islands
DESCRIPTION:The Time Trial. Cycling’s true leveler - just you and your
  legs versus everyone else in the field.\n\nCome join Zwift TT Club on
  Zwift for more Time Trial event information!
  https://www.zwift.com/clubs/b3d1a903-df49-44eb-9c6f-4ba9f0622efe/home\n\n
 Join us as we embark on a five-week series of events - each week you will
  have multiple chances to set your best time on the same route!\n\nOver
  the course of the five weeks\, we’ll be increasing the distance of the
  events.\n\nCheck out Zwiftpower.com after your event to see how well you
  stack up against the competition!\n\nDon’t forget to check you’re
  using the fastest bike frame and wheels available to you!\n\nWHAT IS
  ZWIFT POWER? \nFor further information on connecting to Zwift Power check
  out this support page:
  https://support.zwift.com/en_us/connecting-to-zwiftpower-SyldRc_4H
  \n\nPlease note\; for your results to show up in Zwift Power you must be
  using a Heart Rate Monitor (HRM) and be riding on a smart trainer\, smart
  bike\, or using a power meter. 
DTSTART:20260421T072000Z
DTEND:20260421T072000Z
URL:https://cdn.zwift.com/static/events_headers/cycling/special/zhq-zwift-t
 t-club_ride_02-2023_event-header.png
CLASS:PUBLIC
LAST-MODIFIED:20260420T004204Z
END:VEVENT
BEGIN:VEVENT
UID:5533400
SUMMARY:[Makuri Islands] Zwift TT Club Racing - Neon After Party
LOCATION:Makuri Islands
DESCRIPTION:The Time Trial. Cycling’s true leveler - just you and your
  legs versus everyone else in the field.\n\nCome join Zwift TT Club on
  Zwift for more Time Trial event information!
  https://www.zwift.com/clubs/b3d1a903-df49-44eb-9c6f-4ba9f0622efe/home\n\n
 Join us as we embark on a five-week series of events - each week you will
  have multiple chances to set your best time on the same route!\n\nOver
  the course of the five weeks\, we’ll be increasing the distance of the
  events.\n\nCheck out Zwiftpower.com after your event to see how well you
  stack up against the competition!\n\nDon’t forget to check you’re
  using the fastest bike frame and wheels available to you!\n\nWHAT IS
  ZWIFT POWER? \nFor further information on connecting to Zwift Power check
  out this support page:
  https://support.zwift.com/en_us/connecting-to-zwiftpower-SyldRc_4H
  \n\nPlease note\; for your results to show up in Zwift Power you must be
  using a Heart Rate Monitor (HRM) and be riding on a smart trainer\, smart
  bike\, or using a power meter. 
DTSTART:20260421T092000Z
DTEND:20260421T092000Z
URL:https://cdn.zwift.com/static/events_headers/cycling/special/zhq-zwift-t
 t-club_ride_02-2023_event-header.png
CLASS:PUBLIC
LAST-MODIFIED:20260420T004204Z
END:VEVENT
BEGIN:VEVENT
UID:5533569
SUMMARY:[Makuri Islands] Zwift TT Club Racing - Neon After Party
LOCATION:Makuri Islands
DESCRIPTION:The Time Trial. Cycling’s true leveler - just you and your
  legs versus everyone else in the field.\n\nCome join Zwift TT Club on
  Zwift for more Time Trial event information!
  https://www.zwift.com/clubs/b3d1a903-df49-44eb-9c6f-4ba9f0622efe/home\n\n
 Join us as we embark on a five-week series of events - each week you will
  have multiple chances to set your best time on the same route!\n\nOver
  the course of the five weeks\, we’ll be increasing the distance of the
  events.\n\nCheck out Zwiftpower.com after your event to see how well you
  stack up against the competition!\n\nDon’t forget to check you’re
  using the fastest bike frame and wheels available to you!\n\nWHAT IS
  ZWIFT POWER? \nFor further information on connecting to Zwift Power check
  out this support page:
  https://support.zwift.com/en_us/connecting-to-zwiftpower-SyldRc_4H
  \n\nPlease note\; for your results to show up in Zwift Power you must be
  using a Heart Rate Monitor (HRM) and be riding on a smart trainer\, smart
  bike\, or using a power meter. 
DTSTART:20260421T112000Z
DTEND:20260421T112000Z
URL:https://cdn.zwift.com/static/events_headers/cycling/special/zhq-zwift-t
 t-club_ride_02-2023_event-header.png
CLASS:PUBLIC
LAST-MODIFIED:20260420T004204Z
END:VEVENT
BEGIN:VEVENT
UID:5533633
SUMMARY:[Makuri Islands] Zwift TT Club Racing - Neon After Party
LOCATION:Makuri Islands
DESCRIPTION:The Time Trial. Cycling’s true leveler - just you and your
  legs versus everyone else in the field.\n\nCome join Zwift TT Club on
  Zwift for more Time Trial event information!
  https://www.zwift.com/clubs/b3d1a903-df49-44eb-9c6f-4ba9f0622efe/home\n\n
 Join us as we embark on a five-week series of events - each week you will
  have multiple chances to set your best time on the same route!\n\nOver
  the course of the five weeks\, we’ll be increasing the distance of the
  events.\n\nCheck out Zwiftpower.com after your event to see how well you
  stack up against the competition!\n\nDon’t forget to check you’re
  using the fastest bike frame and wheels available to you!\n\nWHAT IS
  ZWIFT POWER? \nFor further information on connecting to Zwift Power check
  out this support page:
  https://support.zwift.com/en_us/connecting-to-zwiftpower-SyldRc_4H
  \n\nPlease note\; for your results to show up in Zwift Power you must be
  using a Heart Rate Monitor (HRM) and be riding on a smart trainer\, smart
  bike\, or using a power meter. 
DTSTART:20260421T132000Z
DTEND:20260421T132000Z
URL:https://cdn.zwift.com/static/events_headers/cycling/special/zhq-zwift-t
 t-club_ride_02-2023_event-header.png
CLASS:PUBLIC
LAST-MODIFIED:20260420T004204Z
END:VEVENT
END:VCALENDAR
