BEGIN:VCALENDAR
VERSION:2.0
PRODID:Zwift Calendar - by David Collom
METHOD:REQUEST
BEGIN:VEVENT
UID:5531186
SUMMARY:[New York] Workout 3 - Zwift Camp: Breakthrough
LOCATION:New York
DESCRIPTION:Outdoor miles are right around the corner\, and these five
  Zwift Camp: Breakthrough workouts get you ready for them. Sharpen your
  speed\, smooth your pedal stroke\, and build the strength you need for
  hills and longer rides outside.\n\nWorkout 3: Cadence Mastery\nDial in
  your cadence and watch everything else fall into place. This workout will
  have you switching between high and low cadence\, all while keeping power
  steady\, so outdoor riding feels more composed. \n
DTSTART:20260420T160000Z
DTEND:20260420T164500Z
URL:https://cdn.zwift.com/static/events_headers/cycling/special/Zwift-Camp-
 Breakthrough-april-2026.png
CLASS:PUBLIC
LAST-MODIFIED:20260420T004204Z
END:VEVENT
BEGIN:VEVENT
UID:5531886
SUMMARY:[New York] Workout 3 - Zwift Camp: Breakthrough
LOCATION:New York
DESCRIPTION:Outdoor miles are right around the corner\, and these five
  Zwift Camp: Breakthrough workouts get you ready for them. Sharpen your
  speed\, smooth your pedal stroke\, and build the strength you need for
  hills and longer rides outside.\n\nWorkout 3: Cadence Mastery\nDial in
  your cadence and watch everything else fall into place. This workout will
  have you switching between high and low cadence\, all while keeping power
  steady\, so outdoor riding feels more composed. \n
DTSTART:20260420T170000Z
DTEND:20260420T174500Z
URL:https://cdn.zwift.com/static/events_headers/cycling/special/Zwift-Camp-
 Breakthrough-april-2026.png
CLASS:PUBLIC
LAST-MODIFIED:20260420T004204Z
END:VEVENT
BEGIN:VEVENT
UID:5531783
SUMMARY:[New York] Workout 3 - Zwift Camp: Breakthrough
LOCATION:New York
DESCRIPTION:Outdoor miles are right around the corner\, and these five
  Zwift Camp: Breakthrough workouts get you ready for them. Sharpen your
  speed\, smooth your pedal stroke\, and build the strength you need for
  hills and longer rides outside.\n\nWorkout 3: Cadence Mastery\nDial in
  your cadence and watch everything else fall into place. This workout will
  have you switching between high and low cadence\, all while keeping power
  steady\, so outdoor riding feels more composed. \n
DTSTART:20260420T180000Z
DTEND:20260420T184500Z
URL:https://cdn.zwift.com/static/events_headers/cycling/special/Zwift-Camp-
 Breakthrough-april-2026.png
CLASS:PUBLIC
LAST-MODIFIED:20260420T004204Z
END:VEVENT
BEGIN:VEVENT
UID:5531844
SUMMARY:[New York] Workout 3 - Zwift Camp: Breakthrough
LOCATION:New York
DESCRIPTION:Outdoor miles are right around the corner\, and these five
  Zwift Camp: Breakthrough workouts get you ready for them. Sharpen your
  speed\, smooth your pedal stroke\, and build the strength you need for
  hills and longer rides outside.\n\nWorkout 3: Cadence Mastery\nDial in
  your cadence and watch everything else fall into place. This workout will
  have you switching between high and low cadence\, all while keeping power
  steady\, so outdoor riding feels more composed. \n
DTSTART:20260420T190000Z
DTEND:20260420T194500Z
URL:https://cdn.zwift.com/static/events_headers/cycling/special/Zwift-Camp-
 Breakthrough-april-2026.png
CLASS:PUBLIC
LAST-MODIFIED:20260420T004204Z
END:VEVENT
BEGIN:VEVENT
UID:5531883
SUMMARY:[New York] Workout 3 - Zwift Camp: Breakthrough
LOCATION:New York
DESCRIPTION:Outdoor miles are right around the corner\, and these five
  Zwift Camp: Breakthrough workouts get you ready for them. Sharpen your
  speed\, smooth your pedal stroke\, and build the strength you need for
  hills and longer rides outside.\n\nWorkout 3: Cadence Mastery\nDial in
  your cadence and watch everything else fall into place. This workout will
  have you switching between high and low cadence\, all while keeping power
  steady\, so outdoor riding feels more composed. \n
DTSTART:20260420T200000Z
DTEND:20260420T204500Z
URL:https://cdn.zwift.com/static/events_headers/cycling/special/Zwift-Camp-
 Breakthrough-april-2026.png
CLASS:PUBLIC
LAST-MODIFIED:20260420T004204Z
END:VEVENT
BEGIN:VEVENT
UID:5531750
SUMMARY:[New York] Workout 3 - Zwift Camp: Breakthrough
LOCATION:New York
DESCRIPTION:Outdoor miles are right around the corner\, and these five
  Zwift Camp: Breakthrough workouts get you ready for them. Sharpen your
  speed\, smooth your pedal stroke\, and build the strength you need for
  hills and longer rides outside.\n\nWorkout 3: Cadence Mastery\nDial in
  your cadence and watch everything else fall into place. This workout will
  have you switching between high and low cadence\, all while keeping power
  steady\, so outdoor riding feels more composed. \n
DTSTART:20260420T210000Z
DTEND:20260420T214500Z
URL:https://cdn.zwift.com/static/events_headers/cycling/special/Zwift-Camp-
 Breakthrough-april-2026.png
CLASS:PUBLIC
LAST-MODIFIED:20260420T004204Z
END:VEVENT
BEGIN:VEVENT
UID:5531808
SUMMARY:[New York] Workout 3 - Zwift Camp: Breakthrough
LOCATION:New York
DESCRIPTION:Outdoor miles are right around the corner\, and these five
  Zwift Camp: Breakthrough workouts get you ready for them. Sharpen your
  speed\, smooth your pedal stroke\, and build the strength you need for
  hills and longer rides outside.\n\nWorkout 3: Cadence Mastery\nDial in
  your cadence and watch everything else fall into place. This workout will
  have you switching between high and low cadence\, all while keeping power
  steady\, so outdoor riding feels more composed. \n
DTSTART:20260420T220000Z
DTEND:20260420T224500Z
URL:https://cdn.zwift.com/static/events_headers/cycling/special/Zwift-Camp-
 Breakthrough-april-2026.png
CLASS:PUBLIC
LAST-MODIFIED:20260420T004204Z
END:VEVENT
BEGIN:VEVENT
UID:5531861
SUMMARY:[New York] Workout 3 - Zwift Camp: Breakthrough
LOCATION:New York
DESCRIPTION:Outdoor miles are right around the corner\, and these five
  Zwift Camp: Breakthrough workouts get you ready for them. Sharpen your
  speed\, smooth your pedal stroke\, and build the strength you need for
  hills and longer rides outside.\n\nWorkout 3: Cadence Mastery\nDial in
  your cadence and watch everything else fall into place. This workout will
  have you switching between high and low cadence\, all while keeping power
  steady\, so outdoor riding feels more composed. \n
DTSTART:20260420T230000Z
DTEND:20260420T234500Z
URL:https://cdn.zwift.com/static/events_headers/cycling/special/Zwift-Camp-
 Breakthrough-april-2026.png
CLASS:PUBLIC
LAST-MODIFIED:20260420T004204Z
END:VEVENT
BEGIN:VEVENT
UID:5531887
SUMMARY:[New York] Workout 3 - Zwift Camp: Breakthrough
LOCATION:New York
DESCRIPTION:Outdoor miles are right around the corner\, and these five
  Zwift Camp: Breakthrough workouts get you ready for them. Sharpen your
  speed\, smooth your pedal stroke\, and build the strength you need for
  hills and longer rides outside.\n\nWorkout 3: Cadence Mastery\nDial in
  your cadence and watch everything else fall into place. This workout will
  have you switching between high and low cadence\, all while keeping power
  steady\, so outdoor riding feels more composed. \n
DTSTART:20260421T000000Z
DTEND:20260421T004500Z
URL:https://cdn.zwift.com/static/events_headers/cycling/special/Zwift-Camp-
 Breakthrough-april-2026.png
CLASS:PUBLIC
LAST-MODIFIED:20260420T004204Z
END:VEVENT
BEGIN:VEVENT
UID:5531784
SUMMARY:[New York] Workout 3 - Zwift Camp: Breakthrough
LOCATION:New York
DESCRIPTION:Outdoor miles are right around the corner\, and these five
  Zwift Camp: Breakthrough workouts get you ready for them. Sharpen your
  speed\, smooth your pedal stroke\, and build the strength you need for
  hills and longer rides outside.\n\nWorkout 3: Cadence Mastery\nDial in
  your cadence and watch everything else fall into place. This workout will
  have you switching between high and low cadence\, all while keeping power
  steady\, so outdoor riding feels more composed. \n
DTSTART:20260421T010000Z
DTEND:20260421T014500Z
URL:https://cdn.zwift.com/static/events_headers/cycling/special/Zwift-Camp-
 Breakthrough-april-2026.png
CLASS:PUBLIC
LAST-MODIFIED:20260420T004204Z
END:VEVENT
BEGIN:VEVENT
UID:5531837
SUMMARY:[New York] Workout 3 - Zwift Camp: Breakthrough
LOCATION:New York
DESCRIPTION:Outdoor miles are right around the corner\, and these five
  Zwift Camp: Breakthrough workouts get you ready for them. Sharpen your
  speed\, smooth your pedal stroke\, and build the strength you need for
  hills and longer rides outside.\n\nWorkout 3: Cadence Mastery\nDial in
  your cadence and watch everything else fall into place. This workout will
  have you switching between high and low cadence\, all while keeping power
  steady\, so outdoor riding feels more composed. \n
DTSTART:20260421T020000Z
DTEND:20260421T024500Z
URL:https://cdn.zwift.com/static/events_headers/cycling/special/Zwift-Camp-
 Breakthrough-april-2026.png
CLASS:PUBLIC
LAST-MODIFIED:20260420T004204Z
END:VEVENT
BEGIN:VEVENT
UID:5531884
SUMMARY:[New York] Workout 3 - Zwift Camp: Breakthrough
LOCATION:New York
DESCRIPTION:Outdoor miles are right around the corner\, and these five
  Zwift Camp: Breakthrough workouts get you ready for them. Sharpen your
  speed\, smooth your pedal stroke\, and build the strength you need for
  hills and longer rides outside.\n\nWorkout 3: Cadence Mastery\nDial in
  your cadence and watch everything else fall into place. This workout will
  have you switching between high and low cadence\, all while keeping power
  steady\, so outdoor riding feels more composed. \n
DTSTART:20260421T030000Z
DTEND:20260421T034500Z
URL:https://cdn.zwift.com/static/events_headers/cycling/special/Zwift-Camp-
 Breakthrough-april-2026.png
CLASS:PUBLIC
LAST-MODIFIED:20260420T004204Z
END:VEVENT
BEGIN:VEVENT
UID:5531751
SUMMARY:[New York] Workout 3 - Zwift Camp: Breakthrough
LOCATION:New York
DESCRIPTION:Outdoor miles are right around the corner\, and these five
  Zwift Camp: Breakthrough workouts get you ready for them. Sharpen your
  speed\, smooth your pedal stroke\, and build the strength you need for
  hills and longer rides outside.\n\nWorkout 3: Cadence Mastery\nDial in
  your cadence and watch everything else fall into place. This workout will
  have you switching between high and low cadence\, all while keeping power
  steady\, so outdoor riding feels more composed. \n
DTSTART:20260421T040000Z
DTEND:20260421T044500Z
URL:https://cdn.zwift.com/static/events_headers/cycling/special/Zwift-Camp-
 Breakthrough-april-2026.png
CLASS:PUBLIC
LAST-MODIFIED:20260420T004204Z
END:VEVENT
BEGIN:VEVENT
UID:5531809
SUMMARY:[New York] Workout 3 - Zwift Camp: Breakthrough
LOCATION:New York
DESCRIPTION:Outdoor miles are right around the corner\, and these five
  Zwift Camp: Breakthrough workouts get you ready for them. Sharpen your
  speed\, smooth your pedal stroke\, and build the strength you need for
  hills and longer rides outside.\n\nWorkout 3: Cadence Mastery\nDial in
  your cadence and watch everything else fall into place. This workout will
  have you switching between high and low cadence\, all while keeping power
  steady\, so outdoor riding feels more composed. \n
DTSTART:20260421T050000Z
DTEND:20260421T054500Z
URL:https://cdn.zwift.com/static/events_headers/cycling/special/Zwift-Camp-
 Breakthrough-april-2026.png
CLASS:PUBLIC
LAST-MODIFIED:20260420T004204Z
END:VEVENT
BEGIN:VEVENT
UID:5531853
SUMMARY:[New York] Workout 3 - Zwift Camp: Breakthrough
LOCATION:New York
DESCRIPTION:Outdoor miles are right around the corner\, and these five
  Zwift Camp: Breakthrough workouts get you ready for them. Sharpen your
  speed\, smooth your pedal stroke\, and build the strength you need for
  hills and longer rides outside.\n\nWorkout 3: Cadence Mastery\nDial in
  your cadence and watch everything else fall into place. This workout will
  have you switching between high and low cadence\, all while keeping power
  steady\, so outdoor riding feels more composed. \n
DTSTART:20260421T060000Z
DTEND:20260421T064500Z
URL:https://cdn.zwift.com/static/events_headers/cycling/special/Zwift-Camp-
 Breakthrough-april-2026.png
CLASS:PUBLIC
LAST-MODIFIED:20260420T004204Z
END:VEVENT
BEGIN:VEVENT
UID:5531888
SUMMARY:[New York] Workout 3 - Zwift Camp: Breakthrough
LOCATION:New York
DESCRIPTION:Outdoor miles are right around the corner\, and these five
  Zwift Camp: Breakthrough workouts get you ready for them. Sharpen your
  speed\, smooth your pedal stroke\, and build the strength you need for
  hills and longer rides outside.\n\nWorkout 3: Cadence Mastery\nDial in
  your cadence and watch everything else fall into place. This workout will
  have you switching between high and low cadence\, all while keeping power
  steady\, so outdoor riding feels more composed. \n
DTSTART:20260421T070000Z
DTEND:20260421T074500Z
URL:https://cdn.zwift.com/static/events_headers/cycling/special/Zwift-Camp-
 Breakthrough-april-2026.png
CLASS:PUBLIC
LAST-MODIFIED:20260420T004204Z
END:VEVENT
BEGIN:VEVENT
UID:5531785
SUMMARY:[New York] Workout 3 - Zwift Camp: Breakthrough
LOCATION:New York
DESCRIPTION:Outdoor miles are right around the corner\, and these five
  Zwift Camp: Breakthrough workouts get you ready for them. Sharpen your
  speed\, smooth your pedal stroke\, and build the strength you need for
  hills and longer rides outside.\n\nWorkout 3: Cadence Mastery\nDial in
  your cadence and watch everything else fall into place. This workout will
  have you switching between high and low cadence\, all while keeping power
  steady\, so outdoor riding feels more composed. \n
DTSTART:20260421T080000Z
DTEND:20260421T084500Z
URL:https://cdn.zwift.com/static/events_headers/cycling/special/Zwift-Camp-
 Breakthrough-april-2026.png
CLASS:PUBLIC
LAST-MODIFIED:20260420T004204Z
END:VEVENT
BEGIN:VEVENT
UID:5531838
SUMMARY:[New York] Workout 3 - Zwift Camp: Breakthrough
LOCATION:New York
DESCRIPTION:Outdoor miles are right around the corner\, and these five
  Zwift Camp: Breakthrough workouts get you ready for them. Sharpen your
  speed\, smooth your pedal stroke\, and build the strength you need for
  hills and longer rides outside.\n\nWorkout 3: Cadence Mastery\nDial in
  your cadence and watch everything else fall into place. This workout will
  have you switching between high and low cadence\, all while keeping power
  steady\, so outdoor riding feels more composed. \n
DTSTART:20260421T090000Z
DTEND:20260421T094500Z
URL:https://cdn.zwift.com/static/events_headers/cycling/special/Zwift-Camp-
 Breakthrough-april-2026.png
CLASS:PUBLIC
LAST-MODIFIED:20260420T004204Z
END:VEVENT
BEGIN:VEVENT
UID:5531885
SUMMARY:[New York] Workout 3 - Zwift Camp: Breakthrough
LOCATION:New York
DESCRIPTION:Outdoor miles are right around the corner\, and these five
  Zwift Camp: Breakthrough workouts get you ready for them. Sharpen your
  speed\, smooth your pedal stroke\, and build the strength you need for
  hills and longer rides outside.\n\nWorkout 3: Cadence Mastery\nDial in
  your cadence and watch everything else fall into place. This workout will
  have you switching between high and low cadence\, all while keeping power
  steady\, so outdoor riding feels more composed. \n
DTSTART:20260421T100000Z
DTEND:20260421T104500Z
URL:https://cdn.zwift.com/static/events_headers/cycling/special/Zwift-Camp-
 Breakthrough-april-2026.png
CLASS:PUBLIC
LAST-MODIFIED:20260420T004204Z
END:VEVENT
BEGIN:VEVENT
UID:5531752
SUMMARY:[New York] Workout 3 - Zwift Camp: Breakthrough
LOCATION:New York
DESCRIPTION:Outdoor miles are right around the corner\, and these five
  Zwift Camp: Breakthrough workouts get you ready for them. Sharpen your
  speed\, smooth your pedal stroke\, and build the strength you need for
  hills and longer rides outside.\n\nWorkout 3: Cadence Mastery\nDial in
  your cadence and watch everything else fall into place. This workout will
  have you switching between high and low cadence\, all while keeping power
  steady\, so outdoor riding feels more composed. \n
DTSTART:20260421T110000Z
DTEND:20260421T114500Z
URL:https://cdn.zwift.com/static/events_headers/cycling/special/Zwift-Camp-
 Breakthrough-april-2026.png
CLASS:PUBLIC
LAST-MODIFIED:20260420T004204Z
END:VEVENT
BEGIN:VEVENT
UID:5531810
SUMMARY:[New York] Workout 3 - Zwift Camp: Breakthrough
LOCATION:New York
DESCRIPTION:Outdoor miles are right around the corner\, and these five
  Zwift Camp: Breakthrough workouts get you ready for them. Sharpen your
  speed\, smooth your pedal stroke\, and build the strength you need for
  hills and longer rides outside.\n\nWorkout 3: Cadence Mastery\nDial in
  your cadence and watch everything else fall into place. This workout will
  have you switching between high and low cadence\, all while keeping power
  steady\, so outdoor riding feels more composed. \n
DTSTART:20260421T120000Z
DTEND:20260421T124500Z
URL:https://cdn.zwift.com/static/events_headers/cycling/special/Zwift-Camp-
 Breakthrough-april-2026.png
CLASS:PUBLIC
LAST-MODIFIED:20260420T004204Z
END:VEVENT
BEGIN:VEVENT
UID:5531854
SUMMARY:[New York] Workout 3 - Zwift Camp: Breakthrough
LOCATION:New York
DESCRIPTION:Outdoor miles are right around the corner\, and these five
  Zwift Camp: Breakthrough workouts get you ready for them. Sharpen your
  speed\, smooth your pedal stroke\, and build the strength you need for
  hills and longer rides outside.\n\nWorkout 3: Cadence Mastery\nDial in
  your cadence and watch everything else fall into place. This workout will
  have you switching between high and low cadence\, all while keeping power
  steady\, so outdoor riding feels more composed. \n
DTSTART:20260421T130000Z
DTEND:20260421T134500Z
URL:https://cdn.zwift.com/static/events_headers/cycling/special/Zwift-Camp-
 Breakthrough-april-2026.png
CLASS:PUBLIC
LAST-MODIFIED:20260420T004204Z
END:VEVENT
END:VCALENDAR
