BEGIN:VCALENDAR
VERSION:2.0
PRODID:Zwift Calendar - by David Collom
METHOD:REQUEST
BEGIN:VEVENT
UID:5545319
SUMMARY:[France] Zwift Racing League Recon Ride (Team Zwift Philippines)
LOCATION:France
DESCRIPTION:This ZRL Group Recon Ride is led by Team Zwift Philippines
  (https://www.zwift.com/clubs/4f16b64b-60d5-414e-a4fc-91d6924ab305\n\nZwif
 t Racing League Group Recon Rides are the official non-competitive Group
  Rides. Each one is hosted/run by a participating club and will feature
  racing tips and tricks for the race ahead\, an opportunity to ask
  questions relating to Zwift Racing League and to preview the full course
  for Tuesday’s ZRL races.\n\nTHE AIM\nWith experienced ride leaders and
  Zwifters from a reputable Zwift Club\, this is your opportunity to ask
  questions about all things ZRL-related. You'll be able to learn useful
  course and team tactics and if you are new to ZRL - perhaps even find a
  team to race with too!\n\nThere are multiple Group Recon Rides to choose
  from each day at various times and each will operate at the advertised
  paces (pace is based on your Zwift Pace Group).\n\nWHAT IS THE
  ZRL?\nIntroducing the spectacular Zwift Racing League (ZRL) - a
  turbocharged online bike racing extravaganza that's rewriting the rules
  of competition. With a staggering 180 community divisions\, 1\,800
  electrifying teams\, and a whopping 14\,000 fierce racers per 6-week
  round\, the ZRL stands as the undisputed heavyweight champion of online
  bike racing competitions worldwide.\n\nThis high-octane spectacle is
  masterfully orchestrated by our powerhouse partners\, WTRL\, who leave no
  stone unturned in delivering an unparalleled racing experience. But
  remember\, this race is an invitation-only affair\, so if you dare to
  join the ranks of speed demons and thrill-seekers\, you'll need to hitch
  a ride with one of the esteemed existing teams. Fear not\, though\, for
  WTRL's website (www.WTRL.racing) is your portal to all the insider intel
  - schedule\, rules\, and even a team that perfectly aligns with your
  fiery spirit!\n\nIf you want to gather your own team\, you register for
  the next Round of ZRL at
  www.wtrl.racing/zwift-racing-league/.\n\n#zrlrecon #wtrl #zrl #dirt
DTSTART:20260420T090000Z
DTEND:20260420T090000Z
URL:https://cdn.zwift.com/static/events_headers/cycling/special/zwiftracing
 league_reconride_2024august.jpg
CLASS:PUBLIC
LAST-MODIFIED:20260420T004204Z
END:VEVENT
BEGIN:VEVENT
UID:5545324
SUMMARY:[France] Zwift Racing League Recon Ride (Rocacorba Collective)
LOCATION:France
DESCRIPTION:This ZRL Group Recon Ride is led by Rocacorba Collective
  (https://www.zwift.com/clubs/322091e4-9052-4f4e-9e65-f90bf0bb6e99\n\nZwif
 t Racing League Group Recon Rides are the official non-competitive Group
  Rides. Each one is hosted/run by a participating club and will feature
  racing tips and tricks for the race ahead\, an opportunity to ask
  questions relating to Zwift Racing League and to preview the full course
  for Tuesday’s ZRL races.\n\nTHE AIM\nWith experienced ride leaders and
  Zwifters from a reputable Zwift Club\, this is your opportunity to ask
  questions about all things ZRL-related. You'll be able to learn useful
  course and team tactics and if you are new to ZRL - perhaps even find a
  team to race with too!\n\nThere are multiple Group Recon Rides to choose
  from each day at various times and each will operate at the advertised
  paces (pace is based on your Zwift Pace Group).\n\nWHAT IS THE
  ZRL?\nIntroducing the spectacular Zwift Racing League (ZRL) - a
  turbocharged online bike racing extravaganza that's rewriting the rules
  of competition. With a staggering 180 community divisions\, 1\,800
  electrifying teams\, and a whopping 14\,000 fierce racers per 6-week
  round\, the ZRL stands as the undisputed heavyweight champion of online
  bike racing competitions worldwide.\n\nThis high-octane spectacle is
  masterfully orchestrated by our powerhouse partners\, WTRL\, who leave no
  stone unturned in delivering an unparalleled racing experience. But
  remember\, this race is an invitation-only affair\, so if you dare to
  join the ranks of speed demons and thrill-seekers\, you'll need to hitch
  a ride with one of the esteemed existing teams. Fear not\, though\, for
  WTRL's website (www.WTRL.racing) is your portal to all the insider intel
  - schedule\, rules\, and even a team that perfectly aligns with your
  fiery spirit!\n\nIf you want to gather your own team\, you register for
  the next Round of ZRL at
  www.wtrl.racing/zwift-racing-league/.\n\n#zrlrecon #wtrl #zrl #dirt
DTSTART:20260420T170000Z
DTEND:20260420T170000Z
URL:https://cdn.zwift.com/static/events_headers/cycling/special/zwiftracing
 league_reconride_2024august.jpg
CLASS:PUBLIC
LAST-MODIFIED:20260420T004204Z
END:VEVENT
BEGIN:VEVENT
UID:5545327
SUMMARY:[France] Zwift Racing League Recon Ride (L'equipe Provence)
LOCATION:France
DESCRIPTION:This ZRL Group Recon Ride is led by L'equipe Provence
  (https://www.zwift.com/clubs/b4bafc65-a1f2-49a7-a4ab-6cb7326d34b0).\n\nZw
 ift Racing League Group Recon Rides are the official non-competitive Group
  Rides. Each one is hosted/run by a participating club and will feature
  racing tips and tricks for the race ahead\, an opportunity to ask
  questions relating to Zwift Racing League and to preview the full course
  for Tuesday’s ZRL races.\n\nTHE AIM\nWith experienced ride leaders and
  Zwifters from a reputable Zwift Club\, this is your opportunity to ask
  questions about all things ZRL-related. You'll be able to learn useful
  course and team tactics and if you are new to ZRL - perhaps even find a
  team to race with too!\n\nThere are multiple Group Recon Rides to choose
  from each day at various times and each will operate at the advertised
  paces (pace is based on your Zwift Pace Group).\n\nWHAT IS THE
  ZRL?\nIntroducing the spectacular Zwift Racing League (ZRL) - a
  turbocharged online bike racing extravaganza that's rewriting the rules
  of competition. With a staggering 180 community divisions\, 1\,800
  electrifying teams\, and a whopping 14\,000 fierce racers per 6-week
  round\, the ZRL stands as the undisputed heavyweight champion of online
  bike racing competitions worldwide.\n\nThis high-octane spectacle is
  masterfully orchestrated by our powerhouse partners\, WTRL\, who leave no
  stone unturned in delivering an unparalleled racing experience. But
  remember\, this race is an invitation-only affair\, so if you dare to
  join the ranks of speed demons and thrill-seekers\, you'll need to hitch
  a ride with one of the esteemed existing teams. Fear not\, though\, for
  WTRL's website (www.WTRL.racing) is your portal to all the insider intel
  - schedule\, rules\, and even a team that perfectly aligns with your
  fiery spirit!\n\nIf you want to gather your own team\, you register for
  the next Round of ZRL at
  www.wtrl.racing/zwift-racing-league/.\n\n#zrlrecon #wmz #wtrl #zrl
DTSTART:20260420T180000Z
DTEND:20260420T180000Z
URL:https://cdn.zwift.com/static/events_headers/cycling/special/zwiftracing
 league_reconride_2024august.jpg
CLASS:PUBLIC
LAST-MODIFIED:20260420T004204Z
END:VEVENT
BEGIN:VEVENT
UID:5545331
SUMMARY:[France] Zwift Racing League Recon Ride (OverTheEdge OTE)
LOCATION:France
DESCRIPTION:This ZRL Group Recon Ride is hosted by OverTheEdge (OTE)
  (https://www.zwift.com/clubs/8b2c3be7-a30d-403f-a9b9-0de8353518c4).\n\nZw
 ift Racing League Group Recon Rides are the official non-competitive Group
  Rides. Each one is hosted/run by a participating club and will feature
  racing tips and tricks for the race ahead\, an opportunity to ask
  questions relating to Zwift Racing League and to preview the full course
  for Tuesday’s ZRL races.\n\nTHE AIM\nWith experienced ride leaders and
  Zwifters from a reputable Zwift Club\, this is your opportunity to ask
  questions about all things ZRL-related. You’ll be able to learn useful
  course and team tactics and if you are new to ZRL - perhaps even find a
  team to race with too!\n\nThere are multiple Group Recon Rides to choose
  from each day at various times and each will operate at the advertised
  paces (pace is based on your Zwift Pace Group).\n\nWHAT IS THE
  ZRL?\nIntroducing the spectacular Zwift Racing League (ZRL) - a
  turbocharged online bike racing extravaganza that’s rewriting the rules
  of competition. With a staggering 180 community divisions\, 1\,800
  electrifying teams\, and a whopping 14\,000 fierce racers per 6-week
  round\, the ZRL stands as the undisputed heavyweight champion of online
  bike racing competitions worldwide.\n\nThis high-octane spectacle is
  masterfully orchestrated by our powerhouse partners\, WTRL\, who leave no
  stone unturned in delivering an unparalleled racing experience. But
  remember\, this race is an invitation-only affair\, so if you dare to
  join the ranks of speed demons and thrill-seekers\, you’ll need to
  hitch a ride with one of the esteemed existing teams. Fear not\, though\,
  for WTRL’s website (www.WTRL.racing) is your portal to all the insider
  intel - schedule\, rules\, and even a team that perfectly aligns with
  your fiery spirit!\n\nIf you want to gather your own team\, you register
  for the next Round of ZRL at
  www.wtrl.racing/zwift-racing-league/.\n\n#zrlrecon #wtrl #zrl #ote
DTSTART:20260420T233000Z
DTEND:20260420T233000Z
URL:https://cdn.zwift.com/static/events_headers/cycling/special/zwiftracing
 league_reconride_2024august.jpg
CLASS:PUBLIC
LAST-MODIFIED:20260420T004204Z
END:VEVENT
BEGIN:VEVENT
UID:5545334
SUMMARY:[France] Zwift Racing League Recon Ride (OTR)
LOCATION:France
DESCRIPTION:This ZRL Group Recon Ride is led by  OTR (On The Rivet)
  (https://www.zwift.com/clubs/45a345d5-58cd-4e6b-b4f6-4f10531967a9).\nZwif
 t Racing League Group Recon Rides are the official non-competitive Group
  Rides. Each one is hosted/run by a participating club and will feature
  racing tips and tricks for the race ahead\, an opportunity to ask
  questions relating to Zwift Racing League and to preview the full course
  for Tuesday’s ZRL races.\n\nTHE AIM\nWith experienced ride leaders and
  Zwifters from a reputable Zwift Club\, this is your opportunity to ask
  questions about all things ZRL-related. You'll be able to learn useful
  course and team tactics and if you are new to ZRL - perhaps even find a
  team to race with too!\n\nThere are multiple Group Recon Rides to choose
  from each day at various times and each will operate at the advertised
  paces (pace is based on your Zwift Pace Group).\n\nWHAT IS THE
  ZRL?\nIntroducing the spectacular Zwift Racing League (ZRL) - a
  turbocharged online bike racing extravaganza that's rewriting the rules
  of competition. With a staggering 180 community divisions\, 1\,800
  electrifying teams\, and a whopping 14\,000 fierce racers per 6-week
  round\, the ZRL stands as the undisputed heavyweight champion of online
  bike racing competitions worldwide.\n\nThis high-octane spectacle is
  masterfully orchestrated by our powerhouse partners\, WTRL\, who leave no
  stone unturned in delivering an unparalleled racing experience. But
  remember\, this race is an invitation-only affair\, so if you dare to
  join the ranks of speed demons and thrill-seekers\, you'll need to hitch
  a ride with one of the esteemed existing teams. Fear not\, though\, for
  WTRL's website (www.WTRL.racing) is your portal to all the insider intel
  - schedule\, rules\, and even a team that perfectly aligns with your
  fiery spirit!\n\nIf you want to gather your own team\, you register for
  the next Round of ZRL at
  www.wtrl.racing/zwift-racing-league/.\n\n#zrlrecon #wtrl #zrl #otr
DTSTART:20260421T004500Z
DTEND:20260421T004500Z
URL:https://cdn.zwift.com/static/events_headers/cycling/special/zwiftracing
 league_reconride_2024august.jpg
CLASS:PUBLIC
LAST-MODIFIED:20260420T004204Z
END:VEVENT
BEGIN:VEVENT
UID:5495940
SUMMARY:[France] Zwift Racing League: Legends Route
LOCATION:France
DESCRIPTION:ZRL 2025/26 Season: Legends Route (Round 4 / Series 19) - Race:
  3 of 4 (SCRATCH RACE)\n\nPower-ups: \n- Paddock: DRAFT\n- FEATHER 33%\,
  DRAFT 33%\, AERO 34%\n\nTeam Up\, Show Up. Race Your Heart Out. Every
  week.\n\nThe world's Greatest Team Cycling Competition – Zwift Racing
  League is back\, faster\, fresher and even more fun. This season at The
  Home of Community Racing™\, each round brings more moments to celebrate
  with team victories and round champions\, keeping the energy high.\n\nIf
  you want to be in on the action\, head over to WTRL's site to find a team
  and secure your spot in the next race.\n\nRIDE ON!\n\nWTRL Website:
  www.WTRL.racing/zwift-racing-league\nZRL Facebook Page:
  www.facebook.com/groups/wtrlzwiftracingleague\n\n#wtrl #zrl #zrlrecon
DTSTART:20260421T050000Z
DTEND:20260421T050000Z
URL:https://cdn.zwift.com/static/events_headers/cycling/special/event-heade
 r_ZRL_legends-route.jpg
CLASS:PUBLIC
LAST-MODIFIED:20260420T004204Z
END:VEVENT
BEGIN:VEVENT
UID:5555553
SUMMARY:[France] Zwift Racing League: Legends Route - Open Crimson League
  Division 1
LOCATION:France
DESCRIPTION:ZRL 2025/26 Season: Legends Route (Round 4 / Series 19) - Race:
  3 of 4 (SCRATCH RACE)\n\nPower-ups: \n- Paddock: DRAFT\n- FEATHER 33%\,
  DRAFT 33%\, AERO 34%\n\nTeam Up\, Show Up. Race Your Heart Out. Every
  week.\n\nThe world's Greatest Team Cycling Competition – Zwift Racing
  League is back\, faster\, fresher and even more fun. This season at The
  Home of Community Racing™\, each round brings more moments to celebrate
  with team victories and round champions\, keeping the energy high.\n\nIf
  you want to be in on the action\, head over to WTRL's site to find a team
  and secure your spot in the next race.\n\nRIDE ON!\n\nWTRL Website:
  www.WTRL.racing/zwift-racing-league\nZRL Facebook Page:
  www.facebook.com/groups/wtrlzwiftracingleague\n\n#wtrl #zrl #zrlrecon
DTSTART:20260421T073000Z
DTEND:20260421T073000Z
URL:https://cdn.zwift.com/static/events_headers/cycling/special/event-heade
 r_ZRL_legends-route.jpg
CLASS:PUBLIC
LAST-MODIFIED:20260420T004204Z
END:VEVENT
BEGIN:VEVENT
UID:5555561
SUMMARY:[France] Zwift Racing League: Legends Route - Womens Pink League
  Division 1
LOCATION:France
DESCRIPTION:ZRL 2025/26 Season: Legends Route (Round 4 / Series 19) - Race:
  3 of 4 (SCRATCH RACE)\n\nPower-ups: \n- Paddock: DRAFT\n- FEATHER 33%\,
  DRAFT 33%\, AERO 34%\n\nTeam Up\, Show Up. Race Your Heart Out. Every
  week.\n\nThe world's Greatest Team Cycling Competition – Zwift Racing
  League is back\, faster\, fresher and even more fun. This season at The
  Home of Community Racing™\, each round brings more moments to celebrate
  with team victories and round champions\, keeping the energy high.\n\nIf
  you want to be in on the action\, head over to WTRL's site to find a team
  and secure your spot in the next race.\n\nRIDE ON!\n\nWTRL Website:
  www.WTRL.racing/zwift-racing-league\nZRL Facebook Page:
  www.facebook.com/groups/wtrlzwiftracingleague\n\n#wtrl #zrl #zrlrecon
DTSTART:20260421T093000Z
DTEND:20260421T093000Z
URL:https://cdn.zwift.com/static/events_headers/cycling/special/event-heade
 r_ZRL_legends-route.jpg
CLASS:PUBLIC
LAST-MODIFIED:20260420T004204Z
END:VEVENT
BEGIN:VEVENT
UID:5555555
SUMMARY:[France] Zwift Racing League: Legends Route - Open Pink Dev League
  Division 1
LOCATION:France
DESCRIPTION:ZRL 2025/26 Season: Legends Route (Round 4 / Series 19) - Race:
  3 of 4 (SCRATCH RACE)\n\nPower-ups: \n- Paddock: DRAFT\n- FEATHER 33%\,
  DRAFT 33%\, AERO 34%\n\nTeam Up\, Show Up. Race Your Heart Out. Every
  week.\n\nThe world's Greatest Team Cycling Competition – Zwift Racing
  League is back\, faster\, fresher and even more fun. This season at The
  Home of Community Racing™\, each round brings more moments to celebrate
  with team victories and round champions\, keeping the energy high.\n\nIf
  you want to be in on the action\, head over to WTRL's site to find a team
  and secure your spot in the next race.\n\nRIDE ON!\n\nWTRL Website:
  www.WTRL.racing/zwift-racing-league\nZRL Facebook Page:
  www.facebook.com/groups/wtrlzwiftracingleague\n\n#wtrl #zrl #zrlrecon
DTSTART:20260421T093100Z
DTEND:20260421T093100Z
URL:https://cdn.zwift.com/static/events_headers/cycling/special/event-heade
 r_ZRL_legends-route.jpg
CLASS:PUBLIC
LAST-MODIFIED:20260420T004204Z
END:VEVENT
BEGIN:VEVENT
UID:5555566
SUMMARY:[France] Zwift Racing League: Legends Route - Open Pink League
  Division 1
LOCATION:France
DESCRIPTION:ZRL 2025/26 Season: Legends Route (Round 4 / Series 19) - Race:
  3 of 4 (SCRATCH RACE)\n\nPower-ups: \n- Paddock: DRAFT\n- FEATHER 33%\,
  DRAFT 33%\, AERO 34%\n\nTeam Up\, Show Up. Race Your Heart Out. Every
  week.\n\nThe world's Greatest Team Cycling Competition – Zwift Racing
  League is back\, faster\, fresher and even more fun. This season at The
  Home of Community Racing™\, each round brings more moments to celebrate
  with team victories and round champions\, keeping the energy high.\n\nIf
  you want to be in on the action\, head over to WTRL's site to find a team
  and secure your spot in the next race.\n\nRIDE ON!\n\nWTRL Website:
  www.WTRL.racing/zwift-racing-league\nZRL Facebook Page:
  www.facebook.com/groups/wtrlzwiftracingleague\n\n#wtrl #zrl #zrlrecon
DTSTART:20260421T093200Z
DTEND:20260421T093200Z
URL:https://cdn.zwift.com/static/events_headers/cycling/special/event-heade
 r_ZRL_legends-route.jpg
CLASS:PUBLIC
LAST-MODIFIED:20260420T004204Z
END:VEVENT
BEGIN:VEVENT
UID:5555558
SUMMARY:[France] Zwift Racing League: Legends Route - Open Pink League
  Division 2
LOCATION:France
DESCRIPTION:ZRL 2025/26 Season: Legends Route (Round 4 / Series 19) - Race:
  3 of 4 (SCRATCH RACE)\n\nPower-ups: \n- Paddock: DRAFT\n- FEATHER 33%\,
  DRAFT 33%\, AERO 34%\n\nTeam Up\, Show Up. Race Your Heart Out. Every
  week.\n\nThe world's Greatest Team Cycling Competition – Zwift Racing
  League is back\, faster\, fresher and even more fun. This season at The
  Home of Community Racing™\, each round brings more moments to celebrate
  with team victories and round champions\, keeping the energy high.\n\nIf
  you want to be in on the action\, head over to WTRL's site to find a team
  and secure your spot in the next race.\n\nRIDE ON!\n\nWTRL Website:
  www.WTRL.racing/zwift-racing-league\nZRL Facebook Page:
  www.facebook.com/groups/wtrlzwiftracingleague\n\n#wtrl #zrl #zrlrecon
DTSTART:20260421T093300Z
DTEND:20260421T093300Z
URL:https://cdn.zwift.com/static/events_headers/cycling/special/event-heade
 r_ZRL_legends-route.jpg
CLASS:PUBLIC
LAST-MODIFIED:20260420T004204Z
END:VEVENT
BEGIN:VEVENT
UID:5555556
SUMMARY:[France] Zwift Racing League: Legends Route - Open Orange League
  Division 1
LOCATION:France
DESCRIPTION:ZRL 2025/26 Season: Legends Route (Round 4 / Series 19) - Race:
  3 of 4 (SCRATCH RACE)\n\nPower-ups: \n- Paddock: DRAFT\n- FEATHER 33%\,
  DRAFT 33%\, AERO 34%\n\nTeam Up\, Show Up. Race Your Heart Out. Every
  week.\n\nThe world's Greatest Team Cycling Competition – Zwift Racing
  League is back\, faster\, fresher and even more fun. This season at The
  Home of Community Racing™\, each round brings more moments to celebrate
  with team victories and round champions\, keeping the energy high.\n\nIf
  you want to be in on the action\, head over to WTRL's site to find a team
  and secure your spot in the next race.\n\nRIDE ON!\n\nWTRL Website:
  www.WTRL.racing/zwift-racing-league\nZRL Facebook Page:
  www.facebook.com/groups/wtrlzwiftracingleague\n\n#wtrl #zrl #zrlrecon
DTSTART:20260421T100000Z
DTEND:20260421T100000Z
URL:https://cdn.zwift.com/static/events_headers/cycling/special/event-heade
 r_ZRL_legends-route.jpg
CLASS:PUBLIC
LAST-MODIFIED:20260420T004204Z
END:VEVENT
BEGIN:VEVENT
UID:5555557
SUMMARY:[France] Zwift Racing League: Legends Route - Open Saffron Dev
  League Division 1
LOCATION:France
DESCRIPTION:ZRL 2025/26 Season: Legends Route (Round 4 / Series 19) - Race:
  3 of 4 (SCRATCH RACE)\n\nPower-ups: \n- Paddock: DRAFT\n- FEATHER 33%\,
  DRAFT 33%\, AERO 34%\n\nTeam Up\, Show Up. Race Your Heart Out. Every
  week.\n\nThe world's Greatest Team Cycling Competition – Zwift Racing
  League is back\, faster\, fresher and even more fun. This season at The
  Home of Community Racing™\, each round brings more moments to celebrate
  with team victories and round champions\, keeping the energy high.\n\nIf
  you want to be in on the action\, head over to WTRL's site to find a team
  and secure your spot in the next race.\n\nRIDE ON!\n\nWTRL Website:
  www.WTRL.racing/zwift-racing-league\nZRL Facebook Page:
  www.facebook.com/groups/wtrlzwiftracingleague\n\n#wtrl #zrl #zrlrecon
DTSTART:20260421T110000Z
DTEND:20260421T110000Z
URL:https://cdn.zwift.com/static/events_headers/cycling/special/event-heade
 r_ZRL_legends-route.jpg
CLASS:PUBLIC
LAST-MODIFIED:20260420T004204Z
END:VEVENT
BEGIN:VEVENT
UID:5555560
SUMMARY:[France] Zwift Racing League: Legends Route - Open Ruby League
  Division 1
LOCATION:France
DESCRIPTION:ZRL 2025/26 Season: Legends Route (Round 4 / Series 19) - Race:
  3 of 4 (SCRATCH RACE)\n\nPower-ups: \n- Paddock: DRAFT\n- FEATHER 33%\,
  DRAFT 33%\, AERO 34%\n\nTeam Up\, Show Up. Race Your Heart Out. Every
  week.\n\nThe world's Greatest Team Cycling Competition – Zwift Racing
  League is back\, faster\, fresher and even more fun. This season at The
  Home of Community Racing™\, each round brings more moments to celebrate
  with team victories and round champions\, keeping the energy high.\n\nIf
  you want to be in on the action\, head over to WTRL's site to find a team
  and secure your spot in the next race.\n\nRIDE ON!\n\nWTRL Website:
  www.WTRL.racing/zwift-racing-league\nZRL Facebook Page:
  www.facebook.com/groups/wtrlzwiftracingleague\n\n#wtrl #zrl #zrlrecon
DTSTART:20260421T110100Z
DTEND:20260421T110100Z
URL:https://cdn.zwift.com/static/events_headers/cycling/special/event-heade
 r_ZRL_legends-route.jpg
CLASS:PUBLIC
LAST-MODIFIED:20260420T004204Z
END:VEVENT
BEGIN:VEVENT
UID:5555562
SUMMARY:[France] Zwift Racing League: Legends Route - Open Topaz League
  Division 1
LOCATION:France
DESCRIPTION:ZRL 2025/26 Season: Legends Route (Round 4 / Series 19) - Race:
  3 of 4 (SCRATCH RACE)\n\nPower-ups: \n- Paddock: DRAFT\n- FEATHER 33%\,
  DRAFT 33%\, AERO 34%\n\nTeam Up\, Show Up. Race Your Heart Out. Every
  week.\n\nThe world's Greatest Team Cycling Competition – Zwift Racing
  League is back\, faster\, fresher and even more fun. This season at The
  Home of Community Racing™\, each round brings more moments to celebrate
  with team victories and round champions\, keeping the energy high.\n\nIf
  you want to be in on the action\, head over to WTRL's site to find a team
  and secure your spot in the next race.\n\nRIDE ON!\n\nWTRL Website:
  www.WTRL.racing/zwift-racing-league\nZRL Facebook Page:
  www.facebook.com/groups/wtrlzwiftracingleague\n\n#wtrl #zrl #zrlrecon
DTSTART:20260421T120000Z
DTEND:20260421T120000Z
URL:https://cdn.zwift.com/static/events_headers/cycling/special/event-heade
 r_ZRL_legends-route.jpg
CLASS:PUBLIC
LAST-MODIFIED:20260420T004204Z
END:VEVENT
END:VCALENDAR
