BEGIN:VCALENDAR
VERSION:2.0
PRODID:Zwift Calendar - by David Collom
METHOD:REQUEST
BEGIN:VEVENT
UID:5553562
SUMMARY:[Watopia] VTTA 10 miles Time Trial
LOCATION:Watopia
DESCRIPTION:Zwift VTTA Ten Mile TT series\n\nJoin in with the VTTA
  (Veterans Time Trials Association) for a classic time trial on Zwift!
  This 10-mile TT is a true test of your power and pacing. Push your limits
  and see how you stack up against other riders in a race against the
  clock. See how your times compare week on week through the
  series.\n\nAbout the VTTA\n\nThe Veterans Time Trials Association (VTTA)
  is an organization for cyclists aged 40 and over who are interested in
  time trials. The VTTA uses a unique ""age-adjusted"" handicapping system
  to level the playing field for riders of all ages to allow for fair
  regardless of their age. The VTTA also maintains national age records and
  organizes various competitions and championships in real life.\n\nEvent
  Details:\n\nDistance: 10 miles (16.1 km)\nFormat: Time Trial\nBike: TT
  bikes are allowed and highly recommended\n\nImportant Notes:\n\nThis is a
  time trial\, so drafting is disabled.\nPower-ups are also disabled to
  ensure a fair and pure test of your fitness.\nSmart trainer or a Power
  Meter must be used. Sorry no ZPower users\n\nPlease ensure your
  ZwiftPower account is connected to your Zwift account for accurate
  results. If you are a VTTA member remember to put VTTA and your
  membership number after your name in ZPower so we can put your results in
  the league tables..\n\nGet ready to suffer and set a new personal best!
  Good luck!
DTSTART:20260421T190000Z
DTEND:20260421T190000Z
URL:https://cdn.zwift.com/static/events_headers/cycling/groups/wat_grp_tri_
 4.jpg
CLASS:PUBLIC
LAST-MODIFIED:20260420T182509Z
END:VEVENT
END:VCALENDAR
