BEGIN:VCALENDAR
VERSION:2.0
PRODID:Zwift Calendar - by David Collom
METHOD:REQUEST
BEGIN:VEVENT
UID:5553588
SUMMARY:[Watopia] Team VTO Multisport Social Ride
LOCATION:Watopia
DESCRIPTION:Team VTO presents our weekly social ride where Multisport &
  Paratriathletes from around the world 🌍 meet for a 1 hour social ride.
  🏊🏼‍♂️🚴🏼‍♂️🏃🏻‍♂️🇦🇺.\n\nWe will
  ride at around 2.0-2.5 W/kg but will adjust the pace as necessary for the
  bunch. Please stay together as a group around the Beacon. It is a group
  ride - not a race!\n**The last 20 mins (Lap 3) will feature an optional
  HOT LAP or INTERVAL TRAINING SESSION.\n\n- Latest World News on
  Multisports 📰\n- Special guest-star leaders and Pro's ⭐️\n-
  In-Game Rides & Quizzes 🤨\n\nJoin our Zwift Club - Team Zwift Tri Oz
  (on your companion app 👉🏻📲\n\nTo be involved in our community (+
  claim your prize if applicable)\, join our FB
  group\;\nwww.facebook.com/groups/thenewzwifttrioz/
DTSTART:20260421T200000Z
DTEND:20260421T200000Z
URL:https://cdn.zwift.com/club-images/EVENT/420782a1-a17d-43cd-bb59-ead52b0
 bff8f
CLASS:PUBLIC
LAST-MODIFIED:20260420T182508Z
END:VEVENT
END:VCALENDAR
