BEGIN:VCALENDAR
VERSION:2.0
PRODID:Zwift Calendar - by David Collom
METHOD:REQUEST
BEGIN:VEVENT
UID:5545811
SUMMARY:[Watopia] Coffee & Climb
LOCATION:Watopia
DESCRIPTION:Discover your strength with PUMP ride leader Shelly on her
  challenging and empowering "Coffee & Climb." This ride isn't about being
  the fastest—it's about empowering ourselves to take on new challenges.
  We'll conquer Zwift's medium-length\, hilly routes rubberbanded together
  at an encouraging\, easy pace. Every pedal stroke is a victory. Every
  hill is a chance to prove what you're capable of. This is a no-drop
  ride\, so we rise by lifting each other up. Elevate yourself. Elevate
  your ride.\n
DTSTART:20260422T140500Z
DTEND:20260422T150500Z
URL:https://cdn.zwift.com/club-images/EVENT/dad43bd1-fad0-4ca6-8593-426f1ae
 7e4f1
CLASS:PUBLIC
LAST-MODIFIED:20260421T122820Z
END:VEVENT
END:VCALENDAR
