BEGIN:VCALENDAR
VERSION:2.0
PRODID:Zwift Calendar - by David Collom
METHOD:REQUEST
BEGIN:VEVENT
UID:5474811
SUMMARY:[Watopia] Stage 4 - The Zwift Big Spin
LOCATION:Watopia
DESCRIPTION:The Zwift Big Spin is back\, and adventure is calling. From
  Fuego Flats to the Mayan Jungle and beyond\, it’s time to saddle up and
  explore far and wide across four epic stages in Watopia. Spin the wheel
  at every finish line and hunt for hidden spinners along the way.
  Everything from iconic Big Spin favorites to brand new prizes are up for
  grabs. What will you win when you explore The Big Spin? There’s only
  one way to find out: Ride! Spin! Win!\n\n\nStage 4\nRoute: Southern Coast
  Cruise\nDate: March 30 - April 6\n\nWrap up the Zwift Big Spin down on
  Southern Coast Cruise\, with loads of prizes still on deck!\n\n
DTSTART:20260420T023000Z
DTEND:20260420T023000Z
URL:https://cdn.zwift.com/static/events_headers/cycling/special/the-zwift-b
 ig-spin_12-25_event-header.jpg
CLASS:PUBLIC
LAST-MODIFIED:20260420T004204Z
END:VEVENT
END:VCALENDAR
