BEGIN:VCALENDAR
VERSION:2.0
PRODID:Zwift Calendar - by David Collom
METHOD:REQUEST
BEGIN:VEVENT
UID:5529626
SUMMARY:[Makuri Islands] RollCo: Rolling Tide - 12K
LOCATION:Makuri Islands
DESCRIPTION:🌊 ROLLING TIDE\nStart small. Build big.\nWelcome to Rolling
  Tide — RollCo’s season-long ritual race.\n\nEvery week\, the distance
  grows by 1 km.\nIt begins as a short\, explosive opener and steadily
  evolves into a full-distance endurance epic by year’s end.\nThis
  isn’t a one-off event — it’s a shared journey that rises with
  you.\n\n🏁 Race Format\nRolling Tide is a categorised scratch
  race.\nAll riders start together\, with categories keeping the racing
  fair and fast.\nThe only thing that changes… is the distance.\n\nWeek 1
  → 1 km\nWeek 52 → 52 km\n\nEarly weeks reward raw power.\nLater weeks
  demand patience\, grit\, and endurance.\nThe tide never stops
  rising.\n\nRolling Tide is about more than today’s finish line.\nIt’s
  about showing up — week after week.\nSeeing the same names.\nMeasuring
  how far you’ve come as the distance stretches.\n\nYou’ll build
  rivalries.\nYou’ll track your progress.\nYou’ll remember the day it
  all began.\n\nAnd by the end of the season\, everyone who stayed will
  share the same truth:\n\n“We rode the whole tide together.”\n\nWhy
  Join Rolling Collective?\nWe’re more than a club — we’re a global
  community of riders who support each other\, grow together\, and
  celebrate every ride\, whether it’s a grind\, a badge hunt\, or a race.
  Join us on Discord\, connect with fellow riders\, and be part of
  something bigger.\n\nForward\, Together
DTSTART:20260422T175000Z
DTEND:20260422T175000Z
URL:https://cdn.zwift.com/static/events_headers/cycling/groups/nyc_grp_tri_
 1.jpg
CLASS:PUBLIC
LAST-MODIFIED:20260421T193105Z
END:VEVENT
BEGIN:VEVENT
UID:5529627
SUMMARY:[Makuri Islands] RollCo: Rolling Tide - 12K
LOCATION:Makuri Islands
DESCRIPTION:🌊 ROLLING TIDE\nStart small. Build big.\nWelcome to Rolling
  Tide — RollCo’s season-long ritual race.\n\nEvery week\, the distance
  grows by 1 km.\nIt begins as a short\, explosive opener and steadily
  evolves into a full-distance endurance epic by year’s end.\nThis
  isn’t a one-off event — it’s a shared journey that rises with
  you.\n\n🏁 Race Format\nRolling Tide is a categorised scratch
  race.\nAll riders start together\, with categories keeping the racing
  fair and fast.\nThe only thing that changes… is the distance.\n\nWeek 1
  → 1 km\nWeek 52 → 52 km\n\nEarly weeks reward raw power.\nLater weeks
  demand patience\, grit\, and endurance.\nThe tide never stops
  rising.\n\nRolling Tide is about more than today’s finish line.\nIt’s
  about showing up — week after week.\nSeeing the same names.\nMeasuring
  how far you’ve come as the distance stretches.\n\nYou’ll build
  rivalries.\nYou’ll track your progress.\nYou’ll remember the day it
  all began.\n\nAnd by the end of the season\, everyone who stayed will
  share the same truth:\n\n“We rode the whole tide together.”\n\nWhy
  Join Rolling Collective?\nWe’re more than a club — we’re a global
  community of riders who support each other\, grow together\, and
  celebrate every ride\, whether it’s a grind\, a badge hunt\, or a race.
  Join us on Discord\, connect with fellow riders\, and be part of
  something bigger.\n\nForward\, Together
DTSTART:20260422T225000Z
DTEND:20260422T225000Z
URL:https://cdn.zwift.com/static/events_headers/cycling/groups/nyc_grp_tri_
 1.jpg
CLASS:PUBLIC
LAST-MODIFIED:20260421T193105Z
END:VEVENT
END:VCALENDAR
