BEGIN:VCALENDAR
VERSION:2.0
PRODID:Zwift Calendar - by David Collom
METHOD:REQUEST
BEGIN:VEVENT
UID:5554304
SUMMARY:[Paris] Rapha Women's 100 Training Ride
LOCATION:Paris
DESCRIPTION:She’s your greatest competition. Your loudest
  cheerleader. The one you want to beat. The one you want to win. Rapha
  and Zwift are celebrating best rivals and fierce friends. The women who
  give us a wheel to chase. A line to follow. A reason not to hit
  snooze. Because friendly competition pulls us forward. The harder you
  go\, the further she’ll get.\n\nJoin us as we build up to the biggest
  women's participation event in cycling\, the Rapha Women's 100. Returning
  5th-6th September 2026.        
DTSTART:20260422T070000Z
DTEND:20260422T074500Z
URL:https://cdn.zwift.com/static/events_headers/IMG_3271.jpg
CLASS:PUBLIC
LAST-MODIFIED:20260421T004207Z
END:VEVENT
END:VCALENDAR
