BEGIN:VCALENDAR
VERSION:2.0
PRODID:Zwift Calendar - by David Collom
METHOD:REQUEST
BEGIN:VEVENT
UID:5554912
SUMMARY:[Richmond] Old Timers Tea Time Tour
LOCATION:Richmond
DESCRIPTION:Old Dog Racing presents a series of shorter and easier races
  ideal for beginner and intermediate riders. It’s called the tea time
  tour but it could be breakfast\, lunch\, maybe even midnight snack
  wherever you are!  Absolutely everyone is welcome to join in\, bring your
  friends and a nemesis or two!\n\nPerhaps you are new\; maybe the old
  power station isn’t delivering the watts anymore\, or the knees are
  just a little too creaky\, these races are for you!\n\nCome and join the
  fun\; A six week tour\, two start times per week\, Wednesdays 5:30 pm
  Eastern and  Fridays 5:30 pm Pacific\, If you race both events in a week
  your best finish time will go towards your points total.\n\nRaces will be
  mass start and all riders visible\, participants will be issued the Zwift
  Category kit as an aid to identify which category riders you are
  currently racing against.\n\nThe Categories are divided by age as shown
  below:\nA Under 40 (red)  B 40-49 (green) C 50-59 (blue) D 60-69 (yellow)
  and E 70 and over. (purple)\n\nIf you haven’t tried age based (masters)
  racing before\, they can be great fun\, plenty of banter and friendly
  rivalry between the age groups!\n\nWatch out for the olduns’ (yellow
  and purple)… They say you can’t teach an old dog new tricks\, but
  what they don’t tell you is that they have a few stashed up their
  sleeves!\n\nPower ups to help you along your way include: The van\, the
  steamroller\, the feather\, and aero.\n\nIf you find yourself alone\,
  enjoy the scenery and clock up another route badge.\n\nPoints awarded to
  each category in every race are: 25\, 20\,16\,13\,11\,10\,9\,8\,7\,6 and
  5 very generous participation points!! (You have to finish!). \n\nHighest
  accumulated points in each category wins the series.. you’re going to
  have to wear an HRM and have a Zwift Power account in order to be awarded
  points.\n\nEarn more than 100 points and l’ll send you an Old Dog
  Racing Mug!*\nThe best race report of the series gets a mug too.* \n\n   
    *terms and conditions apply\, go to Facebook page for
  details.\n\n\nJoin us on :\nZwift Companion
  https://www.zwift.com/clubs/0ad7655f-797b-4dc2-940d-b313fca0df0a/home\nFa
 cebook -    https://www.facebook.com/groups/3001328763388965 \nor Strava 
  -  https://strava.app.link/7JqgUWGwu1b\n\nWOOF!
DTSTART:20260422T213000Z
DTEND:20260422T213000Z
URL:https://cdn.zwift.com/static/events_headers/cycling/special/neokyo_grou
 p_race_2021oct.jpg
CLASS:PUBLIC
LAST-MODIFIED:20260421T211848Z
END:VEVENT
END:VCALENDAR
