BEGIN:VCALENDAR
VERSION:2.0
PRODID:Zwift Calendar - by David Collom
METHOD:REQUEST
BEGIN:VEVENT
UID:5554655
SUMMARY:[France] NonSequitur Find Your Groove
LOCATION:France
DESCRIPTION:Welcome to the NonSequitur Find Your Groove Workout ride. This
  ride will be banded\nwith each rider completing the work out based on
  your personal FTP. We will spin\nthough some of the various Zwift
  programs on some cheeky routes where we may\nsnag a badge while finding
  )our workout groove...\nNSCC can be found at the following
  link:\nFacebook:\nhttps://m.facebook.com/groups/1892479064921978/?ref=sha
 re\nZC
  App:\nhttps://www.zwift.com/clubs/31371a60-5c8b-4c78-82a0-0abcdb95dc22/ho
 me
DTSTART:20260422T121500Z
DTEND:20260422T130000Z
URL:https://cdn.zwift.com/club-images/EVENT/84588a3e-0ccb-447e-a0e6-4a56f6c
 13226
CLASS:PUBLIC
LAST-MODIFIED:20260421T122820Z
END:VEVENT
END:VCALENDAR
