BEGIN:VCALENDAR
VERSION:2.0
PRODID:Zwift Calendar - by David Collom
METHOD:REQUEST
BEGIN:VEVENT
UID:5554549
SUMMARY:[France] NO LIMIT CC - MIDWEEK ROLL OUT
LOCATION:France
DESCRIPTION:👥 No Limit Cycling Club is a community-led cycling club
  built around consistency\, confidence\, and riding together. Riders of
  all backgrounds and abilities are welcome.\n\n🌤 This midweek session
  is designed as a short before-work ride to get the legs moving and start
  the day right. No drama\, no pressure\, just ride your ride.\n\n🗺
  Routes rotate across Zwift worlds including Watopia\, France\, and Makuri
  Islands to keep rides fresh and fun.\n\n🧭 Ride leads manage pacing and
  communication. Sweepers check in with riders and help regroup when
  needed.\n\n🔒 We begin with a steady warm up together before settling
  into a controlled group pace. Riders can push a little if they wish\, or
  sit in and ride comfortably with the group. The focus is smooth pacing\,
  good group riding and positive energy. Fence will be used to help keep
  the group together and make the ride welcoming for newer Zwift
  riders.**\n\n🎽 Ride with NLCC to unlock and wear the official No Limit
  CC Zwift kit.\n\n🔁 Other NLCC rides\nTue 7:00 PM GMT\nThu 7:00 PM
  GMT\nSat 7:00 AM GMT**\n\n**Sun 9:05 AM GMT\n\n📲 Contact\nNLCC on
  Zwift:
  https://www.zwift.com/clubs/469e53e5-462c-4aa7-b34c-026384533c0b/home\nSt
 rava: https://strava.app.link/Vq02OaxrDZb\nInstagram:
  https://www.instagram.com/nolimit.bike**
DTSTART:20260422T051500Z
DTEND:20260422T055500Z
URL:https://cdn.zwift.com/club-images/EVENT/eacd38d5-a631-49ce-91ef-3476662
 c78d3
CLASS:PUBLIC
LAST-MODIFIED:20260420T221846Z
END:VEVENT
END:VCALENDAR
