BEGIN:VCALENDAR
VERSION:2.0
PRODID:Zwift Calendar - by David Collom
METHOD:REQUEST
BEGIN:VEVENT
UID:5545407
SUMMARY:[Watopia] Mountain Massif-Vekta Adaptative Training
LOCATION:Watopia
DESCRIPTION:This is session is a taster of what is available if you
  subscribe to Vekta’s 16 Gran Fondo plan\, brought\nto you by Cigala
  Cycling.\nCreated by Matteo Cigala\, who has multiple Gran Fondo
  victories to his name\, this structured\ntraining session is a sample
  from Vekta’s Gran Fondo Adaptive Plan. For more information about
  the\nplan visit:\nGran Fondo Adaptive Plan | Vekta\nSafety Note:\nOnly
  undertake vigorous exercise if you are fit and healthy to do so. If you
  are at all unsure\, consult a\nPhysician or Doctor first. All training
  equipment including Bikes and Turbo trainers should be in full\nworking
  order. Do not use any piece of equipment that does not come up to the
  required standard.\nMore information:\nFor more information check out the
  Mountain Massif website www.mountainmassif.com\, follow on\nFacebook\,
  Instagram (Mountain_Massif) and join our Zwift Club by clicking the
  following link\nhttps://www.zwift.com/clubs/mountainmassif/join.\nTo
  record all your training data and chart your progress\, consider using
  the Vekta training app\, which\nyou can read about here:
  https://www.mountainmassif.com/reviews/software/vekta-a-first-glance-\nat
 -the-new-training-platform/
DTSTART:20260420T020000Z
DTEND:20260420T025900Z
URL:https://cdn.zwift.com/club-images/EVENT/5ac03fef-efde-46a8-8b8e-0171f42
 dbeed
CLASS:PUBLIC
LAST-MODIFIED:20260420T004204Z
END:VEVENT
END:VCALENDAR
