BEGIN:VCALENDAR
VERSION:2.0
PRODID:Zwift Calendar - by David Collom
METHOD:REQUEST
BEGIN:VEVENT
UID:5553455
SUMMARY:[Watopia] GC Ride - Prime Ride
LOCATION:Watopia
DESCRIPTION:GC Ride – German Cycling Community Ride\nFahre gemeinsam mit
  der German Cycling Community auf Zwift!\nDer GC Ride ist eine offene
  Gruppenfahrt für alle\, die gemeinsam Rad fahren möchten.\n🚴 Offen
  für alle Fahrerinnen und Fahrer\n🚴 Kein Rennen – entspanntes
  Gruppentempo\n🚴 Gemeinschaft und Spaß am Radfahren\nDie GC Rides
  verbinden die digitale Zwift-Community mit dem Breitensport von German
  Cycling.\nDer Donnerstag bleibt die offizielle vRTF-Wertungsfahrt von
  German Cycling.\nDie GC Rides stehen für Motivation\, Austausch und
  gemeinsames Fahren.\n
DTSTART:20260421T171500Z
DTEND:20260421T181500Z
URL:https://cdn.zwift.com/static/events_headers/cycling/groups/wat_grp_7.jp
 g
CLASS:PUBLIC
LAST-MODIFIED:20260420T123142Z
END:VEVENT
END:VCALENDAR
