BEGIN:VCALENDAR
VERSION:2.0
PRODID:Zwift Calendar - by David Collom
METHOD:REQUEST
BEGIN:VEVENT
UID:5554739
SUMMARY:[Watopia] Dragons RT Raceday
LOCATION:Watopia
DESCRIPTION:Welcome to the weekly Dragons RT Raceday\, the midweek race
  designed for riders who want more than just another group ride.\n\nEvery
  Wednesday\, we race a new route in a full-gas scratch race with all
  categories visible and a single start.\n\nThis event is the ideal
  transfer race between ZRL on Tuesday and TTT on Thursday\, and a perfect
  opportunity for riders who missed ZRL or are not racing TTT but still
  want a competitive\, fair\, and meaningful race.\n\nPower-ups available:
  Feather\, Aero\, Draft Boost.\n\nTo ensure fair racing\, a smart
  trainer\, power meter\, and heart rate monitor are required.\n\nNo zPower
  riders and no TT bikes.\n\nFinal official results are published on
  ZwiftPower\, divided into A\, B\, C\, and D pace groups using Zwift
  category enforcement.\n\nRiders with unrealistic performances may be
  excluded until validation is completed.\n\nFor the Dragons Racing Team\,
  this race is also a platform to identify new talent. Strong
  performances\, race intelligence\, and commitment will be
  noticed.\n\nBring your legs.\nBring your head.\nBring your
  courage.\n\nWork hard. Race fair. Have fun.\n\nAnd maybe — just maybe
  — earn your place among the Dragons.\n\nLet’s achieve greatness
  together.\n\n
DTSTART:20260422T165500Z
DTEND:20260422T165500Z
URL:https://cdn.zwift.com/static/events_headers/cycling/clubs/dragons-racin
 g_ride_2024january.png
CLASS:PUBLIC
LAST-MODIFIED:20260421T153255Z
END:VEVENT
END:VCALENDAR
