BEGIN:VCALENDAR
VERSION:2.0
PRODID:Zwift Calendar - by David Collom
METHOD:REQUEST
BEGIN:VEVENT
UID:5555798
SUMMARY:[Paris] Wednesday Team Canada Ride  w/ Julien Gagne
LOCATION:Paris
DESCRIPTION:Welcome to Cycling Canada's Team Canada Ride. Throughout the
  season we will be hosting rides led by some of Canada's best cyclists.
  This week we are joined by professional gravel racer and zwift riding
  monster\, Julien Gagné!\nTune into the Discord channel to hear Julien
  chat about hi experiences\, upcoming races\, and training.\n\nDiscord
  Channel: https://discord.gg/NTKq4bz\nInstagram:
  https://www.instagram.com/cyclingcanadaofficial\nFacebook:
  https://www.facebook.com/CyclingCanada\n#zwiftcanada
DTSTART:20260423T000000Z
DTEND:20260423T010000Z
URL:https://cdn.zwift.com/static/events_headers/cycling/special/cycle-canad
 a-ride-nov_2023.jpg
CLASS:PUBLIC
LAST-MODIFIED:20260421T211848Z
END:VEVENT
END:VCALENDAR
