BEGIN:VCALENDAR
VERSION:2.0
PRODID:Zwift Calendar - by David Collom
METHOD:REQUEST
BEGIN:VEVENT
UID:5535227
SUMMARY:[Watopia] Zwift Crit Racing Club - Volcano Circuit CCW
LOCATION:Watopia
DESCRIPTION:It's Crit time! Come and join in the fun on a number of
  multi-lap short routes. Get ready to dig deep and push to the finish
  line!\n\nWhat is Racing Score?\n\nRacing Score is an intuitive system
  that replaces the traditional categories (A - D) with a 0-1000 scale to
  reflect your current level\, considering various metrics like race
  performances and power. This score helps Zwift recommend the most
  competitive band to race in\, ensuring a fun\, rewarding\, and exciting
  experience as you track your progression throughout your Zwift racing
  adventures.\n\nWHAT IS ZWIFT POWER? For further information on connecting
  to Zwift Power check out this support page:
  https://support.zwift.com/en_us/connecting-to-zwiftpower-SyldRc_4H\n\nPle
 ase note\; for your results to show up in Zwift Power you must be using a
  Heart Rate Monitor (HRM) and be riding on a smart trainer\, smart bike\,
  or using a power meter.
DTSTART:20260420T014000Z
DTEND:20260420T014000Z
URL:https://cdn.zwift.com/static/events_headers/cycling/special/critclub_ri
 de_june2023.jpg
CLASS:PUBLIC
LAST-MODIFIED:20260420T004203Z
END:VEVENT
BEGIN:VEVENT
UID:5535049
SUMMARY:[New York] Zwift Crit Racing Club - Times Square Circuit
LOCATION:New York
DESCRIPTION:It's Crit time! Come and join in the fun on a number of
  multi-lap short routes. Get ready to dig deep and push to the finish
  line!\n\nWhat is Racing Score?\n\nRacing Score is an intuitive system
  that replaces the traditional categories (A - D) with a 0-1000 scale to
  reflect your current level\, considering various metrics like race
  performances and power. This score helps Zwift recommend the most
  competitive band to race in\, ensuring a fun\, rewarding\, and exciting
  experience as you track your progression throughout your Zwift racing
  adventures.\n\nWHAT IS ZWIFT POWER? For further information on connecting
  to Zwift Power check out this support page:
  https://support.zwift.com/en_us/connecting-to-zwiftpower-SyldRc_4H\n\nPle
 ase note\; for your results to show up in Zwift Power you must be using a
  Heart Rate Monitor (HRM) and be riding on a smart trainer\, smart bike\,
  or using a power meter.
DTSTART:20260420T074000Z
DTEND:20260420T074000Z
URL:https://cdn.zwift.com/static/events_headers/cycling/special/critclub_ri
 de_june2023.jpg
CLASS:PUBLIC
LAST-MODIFIED:20260420T004203Z
END:VEVENT
BEGIN:VEVENT
UID:5535291
SUMMARY:[New York] Zwift Crit Racing Club - Times Square Circuit
LOCATION:New York
DESCRIPTION:It's Crit time! Come and join in the fun on a number of
  multi-lap short routes. Get ready to dig deep and push to the finish
  line!\n\nWhat is Racing Score?\n\nRacing Score is an intuitive system
  that replaces the traditional categories (A - D) with a 0-1000 scale to
  reflect your current level\, considering various metrics like race
  performances and power. This score helps Zwift recommend the most
  competitive band to race in\, ensuring a fun\, rewarding\, and exciting
  experience as you track your progression throughout your Zwift racing
  adventures.\n\nWHAT IS ZWIFT POWER? For further information on connecting
  to Zwift Power check out this support page:
  https://support.zwift.com/en_us/connecting-to-zwiftpower-SyldRc_4H\n\nPle
 ase note\; for your results to show up in Zwift Power you must be using a
  Heart Rate Monitor (HRM) and be riding on a smart trainer\, smart bike\,
  or using a power meter.
DTSTART:20260420T094000Z
DTEND:20260420T094000Z
URL:https://cdn.zwift.com/static/events_headers/cycling/special/critclub_ri
 de_june2023.jpg
CLASS:PUBLIC
LAST-MODIFIED:20260420T004203Z
END:VEVENT
BEGIN:VEVENT
UID:5535106
SUMMARY:[New York] Zwift Crit Racing Club - Times Square Circuit
LOCATION:New York
DESCRIPTION:It's Crit time! Come and join in the fun on a number of
  multi-lap short routes. Get ready to dig deep and push to the finish
  line!\n\nWhat is Racing Score?\n\nRacing Score is an intuitive system
  that replaces the traditional categories (A - D) with a 0-1000 scale to
  reflect your current level\, considering various metrics like race
  performances and power. This score helps Zwift recommend the most
  competitive band to race in\, ensuring a fun\, rewarding\, and exciting
  experience as you track your progression throughout your Zwift racing
  adventures.\n\nWHAT IS ZWIFT POWER? For further information on connecting
  to Zwift Power check out this support page:
  https://support.zwift.com/en_us/connecting-to-zwiftpower-SyldRc_4H\n\nPle
 ase note\; for your results to show up in Zwift Power you must be using a
  Heart Rate Monitor (HRM) and be riding on a smart trainer\, smart bike\,
  or using a power meter.
DTSTART:20260420T114000Z
DTEND:20260420T114000Z
URL:https://cdn.zwift.com/static/events_headers/cycling/special/critclub_ri
 de_june2023.jpg
CLASS:PUBLIC
LAST-MODIFIED:20260420T004203Z
END:VEVENT
BEGIN:VEVENT
UID:5535178
SUMMARY:[New York] Zwift Crit Racing Club - Times Square Circuit
LOCATION:New York
DESCRIPTION:It's Crit time! Come and join in the fun on a number of
  multi-lap short routes. Get ready to dig deep and push to the finish
  line!\n\nWhat is Racing Score?\n\nRacing Score is an intuitive system
  that replaces the traditional categories (A - D) with a 0-1000 scale to
  reflect your current level\, considering various metrics like race
  performances and power. This score helps Zwift recommend the most
  competitive band to race in\, ensuring a fun\, rewarding\, and exciting
  experience as you track your progression throughout your Zwift racing
  adventures.\n\nWHAT IS ZWIFT POWER? For further information on connecting
  to Zwift Power check out this support page:
  https://support.zwift.com/en_us/connecting-to-zwiftpower-SyldRc_4H\n\nPle
 ase note\; for your results to show up in Zwift Power you must be using a
  Heart Rate Monitor (HRM) and be riding on a smart trainer\, smart bike\,
  or using a power meter.
DTSTART:20260420T134000Z
DTEND:20260420T134000Z
URL:https://cdn.zwift.com/static/events_headers/cycling/special/critclub_ri
 de_june2023.jpg
CLASS:PUBLIC
LAST-MODIFIED:20260420T004203Z
END:VEVENT
BEGIN:VEVENT
UID:5535292
SUMMARY:[New York] Zwift Crit Racing Club - Times Square Circuit
LOCATION:New York
DESCRIPTION:It's Crit time! Come and join in the fun on a number of
  multi-lap short routes. Get ready to dig deep and push to the finish
  line!\n\nWhat is Racing Score?\n\nRacing Score is an intuitive system
  that replaces the traditional categories (A - D) with a 0-1000 scale to
  reflect your current level\, considering various metrics like race
  performances and power. This score helps Zwift recommend the most
  competitive band to race in\, ensuring a fun\, rewarding\, and exciting
  experience as you track your progression throughout your Zwift racing
  adventures.\n\nWHAT IS ZWIFT POWER? For further information on connecting
  to Zwift Power check out this support page:
  https://support.zwift.com/en_us/connecting-to-zwiftpower-SyldRc_4H\n\nPle
 ase note\; for your results to show up in Zwift Power you must be using a
  Heart Rate Monitor (HRM) and be riding on a smart trainer\, smart bike\,
  or using a power meter.
DTSTART:20260420T164000Z
DTEND:20260420T164000Z
URL:https://cdn.zwift.com/static/events_headers/cycling/special/critclub_ri
 de_june2023.jpg
CLASS:PUBLIC
LAST-MODIFIED:20260420T004203Z
END:VEVENT
BEGIN:VEVENT
UID:5535253
SUMMARY:[New York] Zwift Crit Racing Club - Times Square Circuit
LOCATION:New York
DESCRIPTION:It's Crit time! Come and join in the fun on a number of
  multi-lap short routes. Get ready to dig deep and push to the finish
  line!\n\nWhat is Racing Score?\n\nRacing Score is an intuitive system
  that replaces the traditional categories (A - D) with a 0-1000 scale to
  reflect your current level\, considering various metrics like race
  performances and power. This score helps Zwift recommend the most
  competitive band to race in\, ensuring a fun\, rewarding\, and exciting
  experience as you track your progression throughout your Zwift racing
  adventures.\n\nWHAT IS ZWIFT POWER? For further information on connecting
  to Zwift Power check out this support page:
  https://support.zwift.com/en_us/connecting-to-zwiftpower-SyldRc_4H\n\nPle
 ase note\; for your results to show up in Zwift Power you must be using a
  Heart Rate Monitor (HRM) and be riding on a smart trainer\, smart bike\,
  or using a power meter.
DTSTART:20260420T174000Z
DTEND:20260420T174000Z
URL:https://cdn.zwift.com/static/events_headers/cycling/special/critclub_ri
 de_june2023.jpg
CLASS:PUBLIC
LAST-MODIFIED:20260420T004203Z
END:VEVENT
BEGIN:VEVENT
UID:5535235
SUMMARY:[New York] Zwift Crit Racing Club - Times Square Circuit
LOCATION:New York
DESCRIPTION:It's Crit time! Come and join in the fun on a number of
  multi-lap short routes. Get ready to dig deep and push to the finish
  line!\n\nWhat is Racing Score?\n\nRacing Score is an intuitive system
  that replaces the traditional categories (A - D) with a 0-1000 scale to
  reflect your current level\, considering various metrics like race
  performances and power. This score helps Zwift recommend the most
  competitive band to race in\, ensuring a fun\, rewarding\, and exciting
  experience as you track your progression throughout your Zwift racing
  adventures.\n\nWHAT IS ZWIFT POWER? For further information on connecting
  to Zwift Power check out this support page:
  https://support.zwift.com/en_us/connecting-to-zwiftpower-SyldRc_4H\n\nPle
 ase note\; for your results to show up in Zwift Power you must be using a
  Heart Rate Monitor (HRM) and be riding on a smart trainer\, smart bike\,
  or using a power meter.
DTSTART:20260420T184000Z
DTEND:20260420T184000Z
URL:https://cdn.zwift.com/static/events_headers/cycling/special/critclub_ri
 de_june2023.jpg
CLASS:PUBLIC
LAST-MODIFIED:20260420T004203Z
END:VEVENT
BEGIN:VEVENT
UID:5535115
SUMMARY:[New York] Zwift Crit Racing Club - Times Square Circuit
LOCATION:New York
DESCRIPTION:It's Crit time! Come and join in the fun on a number of
  multi-lap short routes. Get ready to dig deep and push to the finish
  line!\n\nWhat is Racing Score?\n\nRacing Score is an intuitive system
  that replaces the traditional categories (A - D) with a 0-1000 scale to
  reflect your current level\, considering various metrics like race
  performances and power. This score helps Zwift recommend the most
  competitive band to race in\, ensuring a fun\, rewarding\, and exciting
  experience as you track your progression throughout your Zwift racing
  adventures.\n\nWHAT IS ZWIFT POWER? For further information on connecting
  to Zwift Power check out this support page:
  https://support.zwift.com/en_us/connecting-to-zwiftpower-SyldRc_4H\n\nPle
 ase note\; for your results to show up in Zwift Power you must be using a
  Heart Rate Monitor (HRM) and be riding on a smart trainer\, smart bike\,
  or using a power meter.
DTSTART:20260420T224000Z
DTEND:20260420T224000Z
URL:https://cdn.zwift.com/static/events_headers/cycling/special/critclub_ri
 de_june2023.jpg
CLASS:PUBLIC
LAST-MODIFIED:20260420T004203Z
END:VEVENT
BEGIN:VEVENT
UID:5535104
SUMMARY:[New York] Zwift Crit Racing Club - Times Square Circuit
LOCATION:New York
DESCRIPTION:It's Crit time! Come and join in the fun on a number of
  multi-lap short routes. Get ready to dig deep and push to the finish
  line!\n\nWhat is Racing Score?\n\nRacing Score is an intuitive system
  that replaces the traditional categories (A - D) with a 0-1000 scale to
  reflect your current level\, considering various metrics like race
  performances and power. This score helps Zwift recommend the most
  competitive band to race in\, ensuring a fun\, rewarding\, and exciting
  experience as you track your progression throughout your Zwift racing
  adventures.\n\nWHAT IS ZWIFT POWER? For further information on connecting
  to Zwift Power check out this support page:
  https://support.zwift.com/en_us/connecting-to-zwiftpower-SyldRc_4H\n\nPle
 ase note\; for your results to show up in Zwift Power you must be using a
  Heart Rate Monitor (HRM) and be riding on a smart trainer\, smart bike\,
  or using a power meter.
DTSTART:20260421T014000Z
DTEND:20260421T014000Z
URL:https://cdn.zwift.com/static/events_headers/cycling/special/critclub_ri
 de_june2023.jpg
CLASS:PUBLIC
LAST-MODIFIED:20260420T004203Z
END:VEVENT
BEGIN:VEVENT
UID:5535252
SUMMARY:[New York] Zwift Crit Racing Club - Times Square Circuit
LOCATION:New York
DESCRIPTION:It's Crit time! Come and join in the fun on a number of
  multi-lap short routes. Get ready to dig deep and push to the finish
  line!\n\nWhat is Racing Score?\n\nRacing Score is an intuitive system
  that replaces the traditional categories (A - D) with a 0-1000 scale to
  reflect your current level\, considering various metrics like race
  performances and power. This score helps Zwift recommend the most
  competitive band to race in\, ensuring a fun\, rewarding\, and exciting
  experience as you track your progression throughout your Zwift racing
  adventures.\n\nWHAT IS ZWIFT POWER? For further information on connecting
  to Zwift Power check out this support page:
  https://support.zwift.com/en_us/connecting-to-zwiftpower-SyldRc_4H\n\nPle
 ase note\; for your results to show up in Zwift Power you must be using a
  Heart Rate Monitor (HRM) and be riding on a smart trainer\, smart bike\,
  or using a power meter.
DTSTART:20260421T074000Z
DTEND:20260421T074000Z
URL:https://cdn.zwift.com/static/events_headers/cycling/special/critclub_ri
 de_june2023.jpg
CLASS:PUBLIC
LAST-MODIFIED:20260420T004203Z
END:VEVENT
BEGIN:VEVENT
UID:5535073
SUMMARY:[New York] Zwift Crit Racing Club - Times Square Circuit
LOCATION:New York
DESCRIPTION:It's Crit time! Come and join in the fun on a number of
  multi-lap short routes. Get ready to dig deep and push to the finish
  line!\n\nWhat is Racing Score?\n\nRacing Score is an intuitive system
  that replaces the traditional categories (A - D) with a 0-1000 scale to
  reflect your current level\, considering various metrics like race
  performances and power. This score helps Zwift recommend the most
  competitive band to race in\, ensuring a fun\, rewarding\, and exciting
  experience as you track your progression throughout your Zwift racing
  adventures.\n\nWHAT IS ZWIFT POWER? For further information on connecting
  to Zwift Power check out this support page:
  https://support.zwift.com/en_us/connecting-to-zwiftpower-SyldRc_4H\n\nPle
 ase note\; for your results to show up in Zwift Power you must be using a
  Heart Rate Monitor (HRM) and be riding on a smart trainer\, smart bike\,
  or using a power meter.
DTSTART:20260421T094000Z
DTEND:20260421T094000Z
URL:https://cdn.zwift.com/static/events_headers/cycling/special/critclub_ri
 de_june2023.jpg
CLASS:PUBLIC
LAST-MODIFIED:20260420T004203Z
END:VEVENT
BEGIN:VEVENT
UID:5535135
SUMMARY:[New York] Zwift Crit Racing Club - Times Square Circuit
LOCATION:New York
DESCRIPTION:It's Crit time! Come and join in the fun on a number of
  multi-lap short routes. Get ready to dig deep and push to the finish
  line!\n\nWhat is Racing Score?\n\nRacing Score is an intuitive system
  that replaces the traditional categories (A - D) with a 0-1000 scale to
  reflect your current level\, considering various metrics like race
  performances and power. This score helps Zwift recommend the most
  competitive band to race in\, ensuring a fun\, rewarding\, and exciting
  experience as you track your progression throughout your Zwift racing
  adventures.\n\nWHAT IS ZWIFT POWER? For further information on connecting
  to Zwift Power check out this support page:
  https://support.zwift.com/en_us/connecting-to-zwiftpower-SyldRc_4H\n\nPle
 ase note\; for your results to show up in Zwift Power you must be using a
  Heart Rate Monitor (HRM) and be riding on a smart trainer\, smart bike\,
  or using a power meter.
DTSTART:20260421T114000Z
DTEND:20260421T114000Z
URL:https://cdn.zwift.com/static/events_headers/cycling/special/critclub_ri
 de_june2023.jpg
CLASS:PUBLIC
LAST-MODIFIED:20260420T004203Z
END:VEVENT
END:VCALENDAR
