BEGIN:VCALENDAR
VERSION:2.0
PRODID:Zwift Calendar - by David Collom
METHOD:REQUEST
BEGIN:VEVENT
UID:5470267
SUMMARY:[New York] Club Yummy's Workout Party
LOCATION:New York
DESCRIPTION:エンジョイ勢の体力向上を目指してエンジョイ
 ！\n\nYouTuber「ゆみやみ」と楽しく体力向上！不意に出
 くわした激坂にも対応できるような体力づくりを楽し
 みましょう。\n\nゆる〜く、ハードに楽しんでいきまし
 ょう。\n\nClub
  Yummy\nhttps://www.zwift.com/clubs/dbff7fc2-a7d1-4d04-999a-1f02dbe6c753/h
 ome\n\nyumi yummy channel /
  ゆみやみちゃんねる\nhttps://www.youtube.com/channel/UC5XyIOlrJHD
 B6KXIA5qdDRA
DTSTART:20260421T110000Z
DTEND:20260421T120000Z
URL:https://cdn.zwift.com/club-images/EVENT/9031fdbb-1a34-4ad0-b3b9-a09e40f
 88dbd
CLASS:PUBLIC
LAST-MODIFIED:20260420T004204Z
END:VEVENT
END:VCALENDAR
