BEGIN:VCALENDAR
VERSION:2.0
PRODID:Zwift Calendar - by David Collom
METHOD:REQUEST
BEGIN:VEVENT
UID:5551908
SUMMARY:[Watopia] AERO Fit and Fun Steady State
LOCATION:Watopia
DESCRIPTION:The AERO Fit and Fun Steady State is a group ride with some
  optional fun along the way. This is not a race so please follow the
  leader beacon (Yellow) instructions\, if you are feeling strong\, please
  help the keeper beacon (Red) to assist riders at the back of the bunch. 
  \n\nAll riders are welcome\, we aim to create a fun\, social atmosphere
  for your triaining and to improve your skills on Zwift.\n\nCome join us
  in the green & gold (kit unlocked through completing this ride!)\n\nSpin
  the legs and have a chat and if you're keen to get involved in racing in
  our community join us on ZwiftPower or message us via our social media
  accounts.\n\nhttps://linktr.ee/aero.racing.team
DTSTART:20260420T073000Z
DTEND:20260420T073000Z
URL:https://cdn.zwift.com/static/events_headers/cycling/clubs/aero_club_rid
 e_2021jun.jpg
CLASS:PUBLIC
LAST-MODIFIED:20260420T004204Z
END:VEVENT
END:VCALENDAR
