BEGIN:VCALENDAR
VERSION:2.0
PRODID:Zwift Calendar - by David Collom
METHOD:REQUEST
BEGIN:VEVENT
UID:5487630
SUMMARY:[Makuri Islands] Operation 5.W.4.T -  Demolition 3 - V02Max
LOCATION:Makuri Islands
DESCRIPTION:Joignez les membres 5.W.4.T pour un entrainement axé sur le
  développement du FTP (Functional Threshold Power). \n\nRejoignez-nous
  pour une séance d'entraînement stimulante conçue pour améliorer votre
  puissance aérobie et votre endurance!\nMode élastique
  activé.\n\nSuivez-nous sur Facebook pour rester informé de nos autres
  événements : http://fb.5W4T.com\nÀ bientôt! \nL'Équipe 5.W.4.T
DTSTART:20260421T160000Z
DTEND:20260421T170000Z
URL:https://cdn.zwift.com/club-images/EVENT/7d42b1ac-7667-4a86-b6f9-d54e82e
 0a130
CLASS:PUBLIC
LAST-MODIFIED:20260420T094005Z
END:VEVENT
END:VCALENDAR
